BEGIN:VCALENDAR
VERSION:2.0
PRODID:-//Riverside LGBTQ+ Pride - ECPv6.14.0//NONSGML v1.0//EN
CALSCALE:GREGORIAN
METHOD:PUBLISH
X-WR-CALNAME:Riverside LGBTQ+ Pride
X-ORIGINAL-URL:https://www.riversideprideie.org
X-WR-CALDESC:Events for Riverside LGBTQ+ Pride
REFRESH-INTERVAL;VALUE=DURATION:PT1H
X-Robots-Tag:noindex
X-PUBLISHED-TTL:PT1H
BEGIN:VTIMEZONE
TZID:America/Los_Angeles
BEGIN:DAYLIGHT
TZOFFSETFROM:-0800
TZOFFSETTO:-0700
TZNAME:PDT
DTSTART:20210314T100000
END:DAYLIGHT
BEGIN:STANDARD
TZOFFSETFROM:-0700
TZOFFSETTO:-0800
TZNAME:PST
DTSTART:20211107T090000
END:STANDARD
BEGIN:DAYLIGHT
TZOFFSETFROM:-0800
TZOFFSETTO:-0700
TZNAME:PDT
DTSTART:20220313T100000
END:DAYLIGHT
BEGIN:STANDARD
TZOFFSETFROM:-0700
TZOFFSETTO:-0800
TZNAME:PST
DTSTART:20221106T090000
END:STANDARD
END:VTIMEZONE
BEGIN:VEVENT
DTSTART;TZID=America/Los_Angeles:20220224T190000
DTEND;TZID=America/Los_Angeles:20220224T233000
DTSTAMP:20260421T084708
CREATED:20230123T032205Z
LAST-MODIFIED:20250120T020752Z
UID:10000207-1645729200-1645745400@www.riversideprideie.org
SUMMARY:Drag BINGO @ VIP Nightclub Benefiting Riverside Pride
DESCRIPTION:BINGHEAUX! YOU WIN! \n\n\n\nJoin Nebuer Styles at VIP Nightclub and play your heart out for the biggest BingHEAUX and fabulous prizes! \n\n\n\n$10 buys you an entire night of gamecards\, fun and proceeds benefit Riverside Pride! \n\n\n\nAges 21+
URL:https://www.riversideprideie.org/event/drag-bingo-vip-nightclub-benefiting-riverside-pride/2022-02-24/
LOCATION:VIP Nightclub & Restaurant\, 3673 Merrill Ave\, Riverside\, CA\, 92506\, United States
CATEGORIES:Community
ATTACH;FMTTYPE=image/png:https://www.riversideprideie.org/wp-content/uploads/BingHaux-Feb-reduced.png
ORGANIZER;CN="VIP Nightclub & Restaurant":MAILTO:info@vip-nightclub.com
END:VEVENT
BEGIN:VEVENT
DTSTART;TZID=America/Los_Angeles:20220222T193000
DTEND;TZID=America/Los_Angeles:20220222T200000
DTSTAMP:20260421T084708
CREATED:20220218T000614Z
LAST-MODIFIED:20220223T013210Z
UID:10000181-1645558200-1645560000@www.riversideprideie.org
SUMMARY:Riverside Pride LIVE STREAM Q&A
DESCRIPTION:Join some of the members of our Board of Directors at 7:30 PM for a live Q&A streamed on our Instagram\, Facebook and YouTube channels. We'll be talking about our upcoming events\, what's happening with PRIDE 2022\, and even giving away some swag and VIP tickets to PRIDE! \nCheck out the live stream at https://rivpri.de/live22
URL:https://www.riversideprideie.org/event/riverside-pride-live-stream-qa/
LOCATION:Online
CATEGORIES:Virtual
ATTACH;FMTTYPE=image/png:https://www.riversideprideie.org/wp-content/uploads/Live-Stream-2222022-1.png
ORGANIZER;CN="Riverside LGBTQ+ Pride":MAILTO:help@riversideprideie.org
END:VEVENT
BEGIN:VEVENT
DTSTART;TZID=America/Los_Angeles:20220217T190000
DTEND;TZID=America/Los_Angeles:20220217T233000
DTSTAMP:20260421T084708
CREATED:20230123T032205Z
LAST-MODIFIED:20250120T020752Z
UID:10000206-1645124400-1645140600@www.riversideprideie.org
SUMMARY:Drag BINGO @ VIP Nightclub Benefiting Riverside Pride
DESCRIPTION:BINGHEAUX! YOU WIN! \n\n\n\nJoin Nebuer Styles at VIP Nightclub and play your heart out for the biggest BingHEAUX and fabulous prizes! \n\n\n\n$10 buys you an entire night of gamecards\, fun and proceeds benefit Riverside Pride! \n\n\n\nAges 21+
URL:https://www.riversideprideie.org/event/drag-bingo-vip-nightclub-benefiting-riverside-pride/2022-02-17/
LOCATION:VIP Nightclub & Restaurant\, 3673 Merrill Ave\, Riverside\, CA\, 92506\, United States
CATEGORIES:Community
ATTACH;FMTTYPE=image/png:https://www.riversideprideie.org/wp-content/uploads/BingHaux-Feb-reduced.png
ORGANIZER;CN="VIP Nightclub & Restaurant":MAILTO:info@vip-nightclub.com
END:VEVENT
BEGIN:VEVENT
DTSTART;TZID=America/Los_Angeles:20220210T190000
DTEND;TZID=America/Los_Angeles:20220210T233000
DTSTAMP:20260421T084708
CREATED:20230123T032205Z
LAST-MODIFIED:20250120T020752Z
UID:10000205-1644519600-1644535800@www.riversideprideie.org
SUMMARY:Drag BINGO @ VIP Nightclub Benefiting Riverside Pride
DESCRIPTION:BINGHEAUX! YOU WIN! \n\n\n\nJoin Nebuer Styles at VIP Nightclub and play your heart out for the biggest BingHEAUX and fabulous prizes! \n\n\n\n$10 buys you an entire night of gamecards\, fun and proceeds benefit Riverside Pride! \n\n\n\nAges 21+
URL:https://www.riversideprideie.org/event/drag-bingo-vip-nightclub-benefiting-riverside-pride/2022-02-10/
LOCATION:VIP Nightclub & Restaurant\, 3673 Merrill Ave\, Riverside\, CA\, 92506\, United States
CATEGORIES:Community
ATTACH;FMTTYPE=image/png:https://www.riversideprideie.org/wp-content/uploads/BingHaux-Feb-reduced.png
ORGANIZER;CN="VIP Nightclub & Restaurant":MAILTO:info@vip-nightclub.com
END:VEVENT
BEGIN:VEVENT
DTSTART;TZID=America/Los_Angeles:20220203T190000
DTEND;TZID=America/Los_Angeles:20220203T233000
DTSTAMP:20260421T084708
CREATED:20230123T032205Z
LAST-MODIFIED:20250120T020752Z
UID:10000204-1643914800-1643931000@www.riversideprideie.org
SUMMARY:Drag BINGO @ VIP Nightclub Benefiting Riverside Pride
DESCRIPTION:BINGHEAUX! YOU WIN! \n\n\n\nJoin Nebuer Styles at VIP Nightclub and play your heart out for the biggest BingHEAUX and fabulous prizes! \n\n\n\n$10 buys you an entire night of gamecards\, fun and proceeds benefit Riverside Pride! \n\n\n\nAges 21+
URL:https://www.riversideprideie.org/event/drag-bingo-vip-nightclub-benefiting-riverside-pride/2022-02-03/
LOCATION:VIP Nightclub & Restaurant\, 3673 Merrill Ave\, Riverside\, CA\, 92506\, United States
CATEGORIES:Community
ATTACH;FMTTYPE=image/png:https://www.riversideprideie.org/wp-content/uploads/BingHaux-Feb-reduced.png
ORGANIZER;CN="VIP Nightclub & Restaurant":MAILTO:info@vip-nightclub.com
END:VEVENT
BEGIN:VEVENT
DTSTART;VALUE=DATE:20220131
DTEND;VALUE=DATE:20220201
DTSTAMP:20260421T084708
CREATED:20220120T203517Z
LAST-MODIFIED:20250120T013949Z
UID:10000168-1643587200-1643673599@www.riversideprideie.org
SUMMARY:Lunar New Year Virtual Fundraiser
DESCRIPTION:恭喜發財 !! Happy Lunar New Year to all of you! \nCelebrate Lunar New Year's eve with food and help out a great cause at the same time! January 31st only\, Panda Express is donating 28% of all orders that use our special super secret code (psst: It's 906330) when used for online pickup or delivery orders from any Panda Express restaurant nationwide. \nVisit www.RivPri.de/Panda to order and find out all the details! And please share with all your friends – the more orders – the more we raise. Thank you!
URL:https://www.riversideprideie.org/event/lunar-new-year-virtual-fundraiser/
LOCATION:CA
CATEGORIES:Pride Events,Virtual
ATTACH;FMTTYPE=image/png:https://www.riversideprideie.org/wp-content/uploads/chinese-new-year-2022.png
ORGANIZER;CN="Riverside LGBTQ+ Pride":MAILTO:help@riversideprideie.org
END:VEVENT
BEGIN:VEVENT
DTSTART;TZID=America/Los_Angeles:20211211T120000
DTEND;TZID=America/Los_Angeles:20211211T210000
DTSTAMP:20260421T084708
CREATED:20210111T200010Z
LAST-MODIFIED:20250120T020719Z
UID:10000173-1639224000-1639256400@www.riversideprideie.org
SUMMARY:Out & About @ Castle Park
DESCRIPTION:Join us for some great FAMILY fun at Riverside's famous Castle Park while helping bring Riverside's Inland Empire Pride to life! \nTickets for Out At Castle Park are a steal at $30 per person (save $25 off regular prices!) and a portion of every ticket sold helps Riverside LGBTQ+ Pride. \nParking is discounted too! $5 (1/2 off!) \nSaturday\, December 11th\, 2021\n\nPark opens at 12 pm\nRides close at 8 pm\nMini-golf closes at 9 pm\n\nPRIDE Gathering @ 2 pm\nRSVP Now! \nTo get the discount price\, download and show this flyer at the ticket booth: \n\nDownload in Full Color\nDownload in Black & White\n\nThis ticket is an INCREDIBLE Value! Includes: \n\nUnlimited Rides All Day\nUnlimited Mini-Golf All Day\nDukes Very Merry Village (normally require extra ticket)\nThe Snow Show @ Dusk\nHalf-off parking ($5)\n\nSave more than $25 off regular gate prices!\nIf you're interested in volunteering at this event\, we need  you! Sign Up Here. \nEvent Sponsors:\n \n\n\n\n\n\n[ninja_form id=6]
URL:https://www.riversideprideie.org/event/out-about-castle-park/
LOCATION:Castle Park\, 3500 Polk St\, Riverside\, CA\, 92505\, United States
CATEGORIES:Pride Events
ATTACH;FMTTYPE=image/png:https://www.riversideprideie.org/wp-content/uploads/SocialMedia1.png
ORGANIZER;CN="Riverside LGBTQ+ Pride":MAILTO:help@riversideprideie.org
END:VEVENT
BEGIN:VEVENT
DTSTART;TZID=America/Los_Angeles:20211120T150000
DTEND;TZID=America/Los_Angeles:20211120T173000
DTSTAMP:20260421T084708
CREATED:20211101T232625Z
LAST-MODIFIED:20250120T020752Z
UID:10000170-1637420400-1637429400@www.riversideprideie.org
SUMMARY:Transgender Day of Remembrance Vigil - Riverside
DESCRIPTION:Hosted by the Transgender Health & Wellness Center\, allies and community members are invited to come and take part in a resource fair\, followed by a vigil remembering those who are no longer with us. Other events are being planned in Palm Springs and Victorville too. \nRSVP Here\n 
URL:https://www.riversideprideie.org/event/transgender-day-of-remembrance-vigil-riverside/
LOCATION:Ryan Bonaminio Park\, 5000 Tequesquite Ave\, Riverside\, CA\, 92506\, United States
CATEGORIES:Pride Events
ATTACH;FMTTYPE=image/png:https://www.riversideprideie.org/wp-content/uploads/2021/11/TDoR-2021.png
ORGANIZER;CN="Transgender Health & Wellness Center":MAILTO:info@trans.health
END:VEVENT
BEGIN:VEVENT
DTSTART;TZID=America/Los_Angeles:20211029T170000
DTEND;TZID=America/Los_Angeles:20211029T220000
DTSTAMP:20260421T084708
CREATED:20211022T171456Z
LAST-MODIFIED:20250120T020735Z
UID:10000171-1635526800-1635544800@www.riversideprideie.org
SUMMARY:Day of the Dead & Artfest
DESCRIPTION:Come by and pay remembrance to all those LGBTQ+ family who have been lost to hate. Members of Riverside Pride have organized a special altar in memory of those who have been murdered or lost to suicide within the LGBTQ+ communities.
URL:https://www.riversideprideie.org/event/day-of-the-dead-artfest/
LOCATION:Moreno Valley Civic  Amphitheatre\, 14075 Frederick St\, Moreno Valley\, CA\, 92553\, United States
CATEGORIES:Community,Pride Events
ATTACH;FMTTYPE=image/jpeg:https://www.riversideprideie.org/wp-content/uploads/2021/10/image_from_ios.jpg
END:VEVENT
BEGIN:VEVENT
DTSTART;TZID=America/Los_Angeles:20210625T153000
DTEND;TZID=America/Los_Angeles:20210625T210000
DTSTAMP:20260421T084708
CREATED:20210624T051924Z
LAST-MODIFIED:20250127T180317Z
UID:10000172-1624635000-1624654800@www.riversideprideie.org
SUMMARY:Riverside LGBTQ Pride 2021
DESCRIPTION:Please join us for Riverside LGBTQ Pride's very first Pride event! This year\, we will meet up and build community at the park\, before enjoying an optional evening hike up Mt. Rubidoux. \nBring your friends\, family\, and anyone else to uplift and celebrate our communities! This will be a smaller celebration\, so bring a picnic and anything else you will need to be comfortable at the park. \nUPDATE: It’s becoming clear that the heat may be an issue for some of us. I want to add that the hike is optional. We’re meeting up at the park first to spend time as a community. Let’s just look back at this years from now as a funny story about our humble beginnings. \nWe'll see you there!
URL:https://www.riversideprideie.org/event/pride2021/
LOCATION:Ryan Bonaminio Park\, 5000 Tequesquite Ave\, Riverside\, CA\, 92506\, United States
CATEGORIES:Pride Events
ATTACH;FMTTYPE=image/jpeg:https://www.riversideprideie.org/wp-content/uploads/2021/06/200734172_283579550175152_4155759972927823172_n.jpg
ORGANIZER;CN="Riverside LGBTQ+ Pride":MAILTO:help@riversideprideie.org
END:VEVENT
END:VCALENDAR