BEGIN:VCALENDAR
VERSION:2.0
PRODID:-//Riverside LGBTQ+ Pride - ECPv6.14.0//NONSGML v1.0//EN
CALSCALE:GREGORIAN
METHOD:PUBLISH
X-ORIGINAL-URL:https://www.riversideprideie.org
X-WR-CALDESC:Events for Riverside LGBTQ+ Pride
REFRESH-INTERVAL;VALUE=DURATION:PT1H
X-Robots-Tag:noindex
X-PUBLISHED-TTL:PT1H
BEGIN:VTIMEZONE
TZID:America/Los_Angeles
BEGIN:DAYLIGHT
TZOFFSETFROM:-0800
TZOFFSETTO:-0700
TZNAME:PDT
DTSTART:20260308T100000
END:DAYLIGHT
BEGIN:STANDARD
TZOFFSETFROM:-0700
TZOFFSETTO:-0800
TZNAME:PST
DTSTART:20261101T090000
END:STANDARD
END:VTIMEZONE
BEGIN:VEVENT
DTSTART;TZID=America/Los_Angeles:20260221T090000
DTEND;TZID=America/Los_Angeles:20260221T110000
DTSTAMP:20260421T164720
CREATED:20260102T040730Z
LAST-MODIFIED:20260102T040753Z
UID:10000556-1771664400-1771671600@www.riversideprideie.org
SUMMARY:Street Clean Up - Merrill Ave
DESCRIPTION:Riverside LGBTQ+ Pride has adopted Merrill Avenue and we need your help to keep it litter free. Join us for our street clean up every other month! \n\n\n\nRally Spot \n\n\n\nWe will be meeting at VIP Nightclub and Restaurant parking lot.  \n\n\n\nWhat to bring \n\n\n\nTrash bags\, pickers and gloves will be provided. We will also have water jugs available. Please bring your own water bottles\, sunscreen and hats.
URL:https://www.riversideprideie.org/event/street-clean-up-merrill-ave-7/
LOCATION:VIP Nightclub & Restaurant\, 3673 Merrill Ave\, Riverside\, CA\, 92506\, United States
CATEGORIES:Featured 2,Pride Events
ATTACH;FMTTYPE=image/png:https://www.riversideprideie.org/wp-content/uploads/Street-Clean-Up-Merrill-Avenue.png
END:VEVENT
BEGIN:VEVENT
DTSTART;TZID=America/Los_Angeles:20260331T173000
DTEND;TZID=America/Los_Angeles:20260331T200000
DTSTAMP:20260421T164720
CREATED:20260318T041708Z
LAST-MODIFIED:20260318T041829Z
UID:10000560-1774978200-1774987200@www.riversideprideie.org
SUMMARY:Trans Day of Visibility Rally & March 2026
DESCRIPTION:Join Riverside Pride and Transhealth and Wellness Center in celebrating Trans Day of Visibility with a powerful rally and march through the heart of Riverside! This event is a call to honor\, uplift\, and support the transgender and nonbinary community while advocating for equality and visibility as we see countless attacks and trans erasure from our federal government. \n\n\n\nThe rally will feature inspiring speeches from local activists\, community leaders\, and trans voices sharing their experiences and visions for the future. We’ll take to the streets for a vibrant and empowering march\, standing together in solidarity and pride. \n\n\n\nBring your signs\, flags\, and voices as we make it clear: trans rights are human rights!
URL:https://www.riversideprideie.org/event/trans-day-of-visibility-rally-march-2026/
LOCATION:Riverside City Hall\, 3900 Main St\, Riverside\, California\, 92501\, United States
CATEGORIES:Featured 1,Pride Events
ATTACH;FMTTYPE=image/png:https://www.riversideprideie.org/wp-content/uploads/Trans-Day-of-Visibility-Rally-and-March.png
END:VEVENT
BEGIN:VEVENT
DTSTART;TZID=America/Los_Angeles:20260425T090000
DTEND;TZID=America/Los_Angeles:20260425T110000
DTSTAMP:20260421T164720
CREATED:20260305T072155Z
LAST-MODIFIED:20260305T072348Z
UID:10000559-1777107600-1777114800@www.riversideprideie.org
SUMMARY:Street Clean Up - Merrill Ave
DESCRIPTION:Riverside LGBTQ+ Pride has adopted Merrill Avenue and we need your help to keep it litter free. Join us for our street clean up every other month! \n\n\n\nRally Spot \n\n\n\nWe will be meeting at VIP Nightclub and Restaurant parking lot.  \n\n\n\nWhat to bring \n\n\n\nTrash bags\, pickers and gloves will be provided. We will also have water jugs available. Please bring your own water bottles\, sunscreen and hats.
URL:https://www.riversideprideie.org/event/street-clean-up-merrill-ave-8/
LOCATION:VIP Nightclub & Restaurant\, 3673 Merrill Ave\, Riverside\, CA\, 92506\, United States
CATEGORIES:Featured 2,Pride Events
ATTACH;FMTTYPE=image/png:https://www.riversideprideie.org/wp-content/uploads/Street-Clean-Up-Merrill-Avenue.png
END:VEVENT
BEGIN:VEVENT
DTSTART;TZID=America/Los_Angeles:20260530T120000
DTEND;TZID=America/Los_Angeles:20260530T210000
DTSTAMP:20260421T164720
CREATED:20260128T052045Z
LAST-MODIFIED:20260327T222744Z
UID:10000557-1780142400-1780174800@www.riversideprideie.org
SUMMARY:Riverside's Inland Empire Pride Festival 2026
DESCRIPTION:Get ready for our 4th Annual Pride Festival! Our FREE Pride festival returns in 2026 on Saturday\, May 30\, 2026. Once again\, in historic White Park in Downtown Riverside. \n\n\n\nFollow us on social media @RiversideLGBTQ everywhere \n\n\n\nFacebook\n\nInstagram\n\nTwitter\n\nYouTube\n\nLinkedIn\n\n\n\n\n\n\n\nTickets\n\n\n\n\n\n\n\nWe are 100% volunteer-powered. All proceeds go towards helping keep our PRIDE festival FREE for all attendees. “Pay what you can” is our model. \n\n\n \n\n\nBecome a Sponsor – Click Here\n\n\n\nThank you to our 2026 sponsors\n\n\n\n\n\n\n\n\n\n\n\n\n\n\n\n\n\n\n\n\n\n\n\n\n\n\n\n\n\n\n\n\n\n\n\n\n\n\n\n\n\n\n\n\n\n\n\n\n\n\n\n\n\n\n\n\n\n\n\n\n\nJSB Real Estate Enterprise\n\n\n\n\n\n\n\n\n\n\n\n\n\n\n\n\n\n\n\n\n\n\n\n\n\n\n\n\n\n\n\n\n\n\n\n\n\n\n\n\n\n\n\n\n\n\n\n\n\n\n\n Community \n\n\n\n\n\n\n\n\n\n\n\n\n\nMedia \n\n\n\n\n\n\n\n\nYouth Zone\n\n\n\n\n\n\n\n\nArt Exhibit \n\n\n\n\n\n\n\n\n \n\n\n\nOverview\n\n\n\n\n\n\n\n#PRIDE is in Riverside! Join us for a day of celebration\, elevation\, and reflection. You will enjoy performances by unique entertainers\, dance to the beat of up-and-coming LGBTQIA+ performers\, experience LGBTQ History of Inland Empire\, and enjoy over 100 LGBTQIA+ oriented and friendly organizations and companies. Eat\, shop\, drink\, and dance! \n\n\n\nThis is a FREE event. Hours are as follows: \n\n\n\n\nGate opens at 12 PM\n\n\n\nExhibitors/Vendors: 12 – 9 PM\n\n\n\nMain Stage: 2 – 9 PM\n\n\n\nBeer Garden: 2 – 8 PM (beer\, wine\, champagne)\n\n\n\nYouth Zone: 12 – 5 PM (17 and under by Rainbow Pride Youth Alliance)\n\n\n\nWorkshops: 12 – 6 PM\n\n\n\n\nRiverside LGBTQ+ Pride is a 501(c)(3) nonprofit charity\, 100% volunteer-powered. We cannot succeed without our dedicated volunteers and the community's support. \n\n\n\n\n\n\n\nLocation\n\n\n\n\n\n\n\n\n\n\n\n\n\n\n\n\n\n\n\n\n\n\n\n\n\nLocated at Chestnut and Tenth St in downtown Riverside\, White Park was established in 1883 and was Riverside’s first City park. \n\n\n\n\n\n\n\nElements\n\n\n\n\n\n\n\nThere is something for everyone! \n\n\n\n\n100+ Vendors and Exhibitors\n\n\n\nMain Stage Entertainment\n\n\n\nFood & Beer Garden\n\n\n\nDJ\, picnic\, and dancing out in a park setting\n\n\n\nWorkshops and Panels\n\n\n\nYouth Zone (17 and under)\n\n\n\nFestival-only Merchandise\n\n\n\n\n\n\n\n\nEntertainers (Main Stage) – Stay Tuned.\n\n\n\n\n\n\n\nWorkshops (Stonewall Stage) – Stay Tuned.\n\n\n\n\n\n\n\nAccessibility\n\n\n\n\n\n\n\n\n\n\n\n\n\n\n\n\n\n\n\nThe venue is ADA accessible. Spoken content on stage will have ASL interpreters. We will also have a deaf/hard-of-hearing assistance table. \n\n\n\n\n\n\n\n\n\nWant to be involved?\n\n\n\n\n\n\n\n \n\n\n\n\nExhibitor Applications\n\n\n\nFood Vendor Applications\n\n\n\nSponsorship Applications\n\n\n\nPerformer Applications\n\n\n\nArtist Applications
URL:https://www.riversideprideie.org/event/festival26/
LOCATION:White Park\, 3936 Chestnut St\, Riverside\, California\, 92501\, United States
CATEGORIES:Pride Events
ATTACH;FMTTYPE=image/png:https://www.riversideprideie.org/wp-content/uploads/Pride-Announcement-6.png
END:VEVENT
END:VCALENDAR