BEGIN:VCALENDAR
VERSION:2.0
PRODID:-//Riverside LGBTQ+ Pride - ECPv6.14.0//NONSGML v1.0//EN
CALSCALE:GREGORIAN
METHOD:PUBLISH
X-WR-CALNAME:Riverside LGBTQ+ Pride
X-ORIGINAL-URL:https://www.riversideprideie.org
X-WR-CALDESC:Events for Riverside LGBTQ+ Pride
REFRESH-INTERVAL;VALUE=DURATION:PT1H
X-Robots-Tag:noindex
X-PUBLISHED-TTL:PT1H
BEGIN:VTIMEZONE
TZID:America/Los_Angeles
BEGIN:DAYLIGHT
TZOFFSETFROM:-0800
TZOFFSETTO:-0700
TZNAME:PDT
DTSTART:20250309T100000
END:DAYLIGHT
BEGIN:STANDARD
TZOFFSETFROM:-0700
TZOFFSETTO:-0800
TZNAME:PST
DTSTART:20251102T090000
END:STANDARD
END:VTIMEZONE
BEGIN:VEVENT
DTSTART;TZID=America/Los_Angeles:20250331T173000
DTEND;TZID=America/Los_Angeles:20250331T193000
DTSTAMP:20260422T155702
CREATED:20250316T203721Z
LAST-MODIFIED:20250316T205207Z
UID:10000551-1743442200-1743449400@www.riversideprideie.org
SUMMARY:Trans Day of Visibility Rally & March 2025
DESCRIPTION:Join Riverside Pride in celebrating Trans Day of Visibility with a powerful rally and march through the heart of Riverside! This event is a call to honor\, uplift\, and support the transgender and nonbinary community while advocating for equality and visibility as we see countless attacks and trans erasure from our federal government. \n\n\n\nThe rally will feature inspiring speeches from local activists\, community leaders\, and trans voices sharing their experiences and visions for the future. We’ll take to the streets for a vibrant and empowering march\, standing together in solidarity and pride. \n\n\n\nBring your signs\, flags\, and voices as we make it clear: trans rights are human rights!
URL:https://www.riversideprideie.org/event/trans-day-of-visibility-rally-march/
LOCATION:Riverside City Hall\, 3900 Main St\, Riverside\, California\, 92501\, United States
CATEGORIES:Featured 1,Pride Events
ATTACH;FMTTYPE=image/png:https://www.riversideprideie.org/wp-content/uploads/Trans-Day-of-Visibility-2025.png
END:VEVENT
END:VCALENDAR