BEGIN:VCALENDAR
VERSION:2.0
PRODID:-//Riverside LGBTQ+ Pride - ECPv6.14.0//NONSGML v1.0//EN
CALSCALE:GREGORIAN
METHOD:PUBLISH
X-WR-CALNAME:Riverside LGBTQ+ Pride
X-ORIGINAL-URL:https://www.riversideprideie.org
X-WR-CALDESC:Events for Riverside LGBTQ+ Pride
REFRESH-INTERVAL;VALUE=DURATION:PT1H
X-Robots-Tag:noindex
X-PUBLISHED-TTL:PT1H
BEGIN:VTIMEZONE
TZID:America/Los_Angeles
BEGIN:DAYLIGHT
TZOFFSETFROM:-0800
TZOFFSETTO:-0700
TZNAME:PDT
DTSTART:20240310T100000
END:DAYLIGHT
BEGIN:STANDARD
TZOFFSETFROM:-0700
TZOFFSETTO:-0800
TZNAME:PST
DTSTART:20241103T090000
END:STANDARD
END:VTIMEZONE
BEGIN:VEVENT
DTSTART;TZID=America/Los_Angeles:20241009T173000
DTEND;TZID=America/Los_Angeles:20241009T190000
DTSTAMP:20260422T062220
CREATED:20240903T015103Z
LAST-MODIFIED:20250120T015720Z
UID:10000463-1728495000-1728500400@www.riversideprideie.org
SUMMARY:Empowering LGBTQ+ Communities: Civic EnGAYgement Workshop - Part 2
DESCRIPTION:Join us for part two in our workshop series aimed at empowering LGBTQ+ individuals and allies to actively engage in LGBTQ+ advocacy efforts. This workshop offers a safe and inclusive space for participants to explore key issues affecting the LGBTQ+ community and learn practical strategies for effecting positive change and becoming more civically enGAYged. October's workshop is specifically focused on elections. As we approach the general election in November\, join us to understand how elections work\, what does being an elected official entail and what is on the ballot this fall. In partnership with the Civil Rights Institute Inland Southern California \n\n\n\n\n\nBrock Cavett\n\n\n\nAdvocacy Director of Riverside LGBTQ+ Pride \n\n\n\n(He/Him) \n\n\n\n\n\n\n\nServing as Riverside Pride's Advocacy Director and Vice President\, Brock Cavett works to amplify voices of the LGBTQ+ community through activism and political representation. He also serves as Director of Programming and Career Development for Alumni at University of California\, Riverside.  He was appointed by Mayor Lock Dawson to the Human Relations Commission where he serves as chair and is a member of the Freedom to Marry Prop 3 Steering Committee. He is dedicated to ensuring queer & trans youth have access to a support learning environment and was recently appointed to the CA Dept. of Education LGBTQ+ Statewide Advisory Taskforce. \n\n\n\n\n\nErin Edwards\n\n\n\nFormer Riverside City Councilmember \n\n\n\n(She/Her) \n\n\n\n\n\n\n\nErin sat on the board of the Riverside Downtown Partnership and was the former chair of Glocally Connected\, a refugee-serving organization in Riverside County. Elected in November 2019 as the first openly LGBTQ+ city councilmember\, Erin was proud to represent Ward 1 on Riverside City Council until this past Spring. She chaired the Council’s Housing & Homelessness Committee\, served on the Mayor’s Housing Task Force and Santa Ana River Working Group\, and sat on the Council’s Economic Development and Land Use Committees. \n\n\n\n\n\nCarolyn “Connie” Confer\n\n\n\nInland Empire LGBTQ+ Rights Activist \n\n\n\n(She/Her) \n\n\n\n\n\n\nCarolyn Confer\, as assistant city attorney of the City of Riverside\, defended the city against a lawsuit that sought to force the city to put a discriminatory measure against homosexuals and persons with AIDS on the ballot. She was also a key member of Lambda Legal\, a party to defense of the suit and an advocate for LGBT rights. Riverside was the first exception to win against a national campaign of such discriminatory measures. Both Carolyn and Kay organized community and political support to stop the campaign in the region. Kay and Carolyn founded PACE\, a regional gay and lesbian political action committee. Kay and Connie married in 2008\, just four months before Kay’s death. \n\n\n\n\n\n\n\n\n\n\n\nHosted By:\n\n\n\n\n\n\n\nEvent Venue:
URL:https://www.riversideprideie.org/event/empowering-lgbtq-communities-civic-engaygement-workshop-part-2/
LOCATION:Civil Rights Institute\, 3933 Mission Inn Ave\, Suite 103\, Riverside\, California\, 92501\, United States
CATEGORIES:Advocacy Network,Pride Events
ATTACH;FMTTYPE=image/png:https://www.riversideprideie.org/wp-content/uploads/Civic-EnGAYgement-Workshop2.png
END:VEVENT
END:VCALENDAR