BEGIN:VCALENDAR
VERSION:2.0
PRODID:-//Riverside LGBTQ+ Pride - ECPv6.14.0//NONSGML v1.0//EN
CALSCALE:GREGORIAN
METHOD:PUBLISH
X-ORIGINAL-URL:https://www.riversideprideie.org
X-WR-CALDESC:Events for Riverside LGBTQ+ Pride
REFRESH-INTERVAL;VALUE=DURATION:PT1H
X-Robots-Tag:noindex
X-PUBLISHED-TTL:PT1H
BEGIN:VTIMEZONE
TZID:America/Los_Angeles
BEGIN:DAYLIGHT
TZOFFSETFROM:-0800
TZOFFSETTO:-0700
TZNAME:PDT
DTSTART:20240310T100000
END:DAYLIGHT
BEGIN:STANDARD
TZOFFSETFROM:-0700
TZOFFSETTO:-0800
TZNAME:PST
DTSTART:20241103T090000
END:STANDARD
END:VTIMEZONE
BEGIN:VEVENT
DTSTART;TZID=America/Los_Angeles:20240601T180000
DTEND;TZID=America/Los_Angeles:20240601T230000
DTSTAMP:20260421T151024
CREATED:20240329T210913Z
LAST-MODIFIED:20250120T015755Z
UID:10000258-1717264800-1717282800@www.riversideprideie.org
SUMMARY:The Vanguard Ball
DESCRIPTION:The Event\n\n\n\n\n\nGet ready for a night of High Fashion and Big Ambition! The 3rd annual Riverside Pride Gayla walks down the runway as The Vanguard Ball! Let your imagination go wild! Attire is avant-garde high fashion fierceness! Think Lady Gaga meets Met Gala! The night will include a multi-course gourmet dinner\, entertainment\, speakers and of course\, our annual Riverside Pride Award ceremony.Interested in sponsoring? Click Here \n\n\n\n\n\n\n\n\n\n\n\n⚠️This event is ages 18+. No guests younger than 18 with a ticket or otherwise will be admitted. All ticket sales are final. No refunds or transfer will be permitted. \n\n\n\n\n\n\n\n\n\n\n\nEntertainment\n\n\n\nMore entertainers will be announced soon! \n\n\n\n\n\n\n\n\n\n\n\n\n\n\n\n\nPaloma McMichaels\n\n\n\n@Paloma.McMichaels \n\n\n\n\n\n\n\n\n\nDJ: Gaspar Fuego\n\n\n\n@GasparFuego \n\n\n\n\n\n\n\n\n\nMaliyah Heaven\n\n\n\n@Heaven_143 \n\n\n\n\n\n\n\n\n\nRuthless Envy\n\n\n\n@RuthlessEnvy \n\n\n\n\n\n* Entertainment lineup subject to change. \n\n\n\nEvent Sponsors\n\n\n\n\n\n\n\nRunway Sponsor\n\n\n\n\n\n\n\n\n\n\n\n\n\n\nDior Sponsors\n\n\n\n\n\n\n\n\n\n\n\n\n\n\n\n\n\n\n\n\n\n\n\n\n\n\n\n\n\n\n\n\n\n\n\n\n\n\n\n\n\n\n\n\n\n\n\n\n\n\n\n\nAdditional Sponsors\n\n\n\n\n\n\n\n\n\n\n\n\n\n\nJesse Melgar & Angel Rodriguez\n\n\n\n\n\n\n\n\n\n\n\n\n\n\n\nJoin the HOTTEST trend! Sponsor Today!\n\n\n\n\nThe Venue\n\n\n\nMoreno Valley Conference Center\n\n\n\n\n\nLast Year…\n\n\n\n\n\nHosted By
URL:https://www.riversideprideie.org/event/the-vanguard-ball/
LOCATION:Moreno Valley Conference and Recreation Center\, 14075 Frederick St\, Moreno Valley\, CA\, 92553\, United States
CATEGORIES:Pride Events
ATTACH;FMTTYPE=image/jpeg:https://i.imgur.com/PnIHg1G.gif
END:VEVENT
BEGIN:VEVENT
DTSTART;TZID=America/Los_Angeles:20240612T173000
DTEND;TZID=America/Los_Angeles:20240612T200000
DTSTAMP:20260421T151025
CREATED:20240510T183305Z
LAST-MODIFIED:20250120T015639Z
UID:10000385-1718213400-1718222400@www.riversideprideie.org
SUMMARY:Empowering LGBTQ+ Communities: Civic EnGAYgement Workshop
DESCRIPTION:Join us for a workshop aimed at empowering LGBTQ+ individuals and allies to actively engage in LGBTQ+ advocacy efforts. This workshop offers a safe and inclusive space for participants to explore key issues affecting the LGBTQ+ community and learn practical strategies for effecting positive change and becoming more civically enGAYged. Whether you're a seasoned activist or just starting to explore ways to get involved\, this workshop provides valuable tools\, resources\, and inspiration to become an effective advocate for LGBTQ+ rights and social justice. Following the workshop\, check out the “Out in the I.E.” pop-up exhibit\, A 50 Year Retrospective of the Inland Empire LGBTQ+ Community’s Tenacity\, Triumphs\, and Trailblazers. In partnership with the Civil Rights Institute Inland Southern California \n\n\n\nScheduled Panelists:\n\n\n\n\n\nJorge Delos Santos\n\n\n\nDirector of Community Health Programs at TruEvolution \n\n\n\n(He/Him) \n\n\n\n\n\n\nA 24 year resident of Riverside\, Jorge Delos Santos graduated from the University of California\, Riverside\, with bachelor's degrees in Women’s Studies and Anthropology\, and minors in LGBTIQ Studies and Ethnic Studies. In his role as Director of Community Health Programs at TruEvolution\, he also leads outreach efforts to target populations\, develops individual behavioral risk reduction plans and goals with clients\, works reducing HIV/AIDS stigma\, providing accurate information regarding HIV transmission\, and educating communities on safer sex practices. In Fall 2024\, Jorge will begin his Master's in Public Health at the University of California\, Riverside School of Medicine\, further equipping him to make a significant impact in the field of community health. \n\n\n\n\n\nErika Ruiz\n\n\n\nCommunity Organizing Director of Inland Empire Prism Collective \n\n\n\n(They/Them) \n\n\n\n\n\n\nErika Ruiz is the Community Organizing Director and one of the co-founders of Inland Empire Prism Collective. In this role\, they organize within Riverside and San Bernardino counties\, advocating for LGBTQ+ student rights through student engagement\, coalition building\, and public advocacy. With 16 years of organizing experience\, Erika is dedicated to empowering LGBTQ youth and creating lasting change in their community. \n\n\n\n\n\nBrock Cavett\n\n\n\nAdvocacy Director of Riverside LGBTQ+ Pride \n\n\n\n(He/Him) \n\n\n\n\n\n\n\nServing as Riverside Pride's Advocacy Director\, Brock Cavett works to amplify voices of the LGBTQ+ community through activism and political representation. He also serves as Director of Programming and Career Development for Alumni at University of California\, Riverside. Brock has earned a M.A. in Higher Education and Student Affairs\, and a B.A. of Communication Studies at the University of Iowa.  \n\n\n\n\n\n\n\n\n\n\n\n\n\nRefreshments generously provided by Mundial Coffee in Riverside. \n\n\n\nwww.mundialriverside.com \n\n\n\n\n\nHosted By:\n\n\n\n\n\n\n\nEvent Venue:
URL:https://www.riversideprideie.org/event/empowering-lgbtq-communities-civic-engaygement-workshop/
LOCATION:Civil Rights Institute\, 3933 Mission Inn Ave\, Suite 103\, Riverside\, California\, 92501\, United States
CATEGORIES:Advocacy Network,Pride Events
ATTACH;FMTTYPE=image/png:https://www.riversideprideie.org/wp-content/uploads/Civic-EnGAYgement-Workshop-final-1.png
END:VEVENT
END:VCALENDAR