BEGIN:VCALENDAR
VERSION:2.0
PRODID:-//Riverside LGBTQ+ Pride - ECPv6.14.0//NONSGML v1.0//EN
CALSCALE:GREGORIAN
METHOD:PUBLISH
X-ORIGINAL-URL:https://www.riversideprideie.org
X-WR-CALDESC:Events for Riverside LGBTQ+ Pride
REFRESH-INTERVAL;VALUE=DURATION:PT1H
X-Robots-Tag:noindex
X-PUBLISHED-TTL:PT1H
BEGIN:VTIMEZONE
TZID:America/Los_Angeles
BEGIN:DAYLIGHT
TZOFFSETFROM:-0800
TZOFFSETTO:-0700
TZNAME:PDT
DTSTART:20240310T100000
END:DAYLIGHT
BEGIN:STANDARD
TZOFFSETFROM:-0700
TZOFFSETTO:-0800
TZNAME:PST
DTSTART:20241103T090000
END:STANDARD
END:VTIMEZONE
BEGIN:VEVENT
DTSTART;TZID=America/Los_Angeles:20240107T090000
DTEND;TZID=America/Los_Angeles:20240107T110000
DTSTAMP:20260421T082207
CREATED:20231222T213441Z
LAST-MODIFIED:20250120T020239Z
UID:10000250-1704618000-1704625200@www.riversideprideie.org
SUMMARY:Street Clean Up - Merrill Ave
DESCRIPTION:Riverside LGBTQ+ Pride has adopted Merrill Avenue and we need your help to keep it litter free. Join us for our street clean up every other month!  \n\n\n\nRally Spot \n\n\n\nWe will be meeting at VIP Nightclub and Restaurant parking lot.  \n\n\n\nWhat to bring \n\n\n\nTrash bags\, pickers and gloves will be provided. We will also have water jugs available. Please bring your own water bottles\, sunscreen and hats.
URL:https://www.riversideprideie.org/event/street-clean-up-merrill-ave-5/2024-01-07/
LOCATION:VIP Nightclub & Restaurant\, 3673 Merrill Ave\, Riverside\, CA\, 92506\, United States
CATEGORIES:Pride Events
ATTACH;FMTTYPE=image/png:https://www.riversideprideie.org/wp-content/uploads/Street-Clean-Up-Merrill-Avenue.png
END:VEVENT
BEGIN:VEVENT
DTSTART;TZID=America/Los_Angeles:20240126T180000
DTEND;TZID=America/Los_Angeles:20240126T200000
DTSTAMP:20260421T082207
CREATED:20231222T205939Z
LAST-MODIFIED:20250120T020225Z
UID:10000243-1706292000-1706299200@www.riversideprideie.org
SUMMARY:Paint With Pride
DESCRIPTION:🌈 Join us for an unforgettable evening of creativity\, community\, and celebration at our “Paint with Pride” event! 🎨✨ Kickoff the New Year with pride as we come together to express ourselves through art\, surrounded by love\, acceptance\, and a rainbow of colors. Whether you're an experienced artist or picking up a brush for the first time\, this event is for everyone who wants to express themselves through art. 🏳️‍🌈 Date: [Friday\, January 26]🕒 Time: [6:00-8:00 PM]📍 Venue: [Civil Rights Institute]🎨 What to Expect: ➤ Guided Painting Session: Our talented instructor from Paint Party Professionals will lead you through the creation of a beautiful and meaningful Pride-themed masterpiece. No previous painting experience required! ➤ Sip and Socialize: Enjoy a delightful selection of beverages (non-alcoholic) while mingling with fellow participants. ➤ Good for ages 8 and up – but all ages welcome. All minors must be accompanied by an adult guardian. 🎟️ Ticket Information: Tickets are limited\, so be sure to secure your spot early and reserve your canvas. All art supplies will be provided\, and each ticket includes a light snacks and beverages.
URL:https://www.riversideprideie.org/event/paint-with-pride/
LOCATION:Civil Rights Institute\, 3933 Mission Inn Ave\, Suite 103\, Riverside\, California\, 92501\, United States
CATEGORIES:Pride Events
ATTACH;FMTTYPE=image/png:https://www.riversideprideie.org/wp-content/uploads/Paint-with-Pride-SQ.png
END:VEVENT
END:VCALENDAR