BEGIN:VCALENDAR
VERSION:2.0
PRODID:-//Riverside LGBTQ+ Pride - ECPv6.14.0//NONSGML v1.0//EN
CALSCALE:GREGORIAN
METHOD:PUBLISH
X-ORIGINAL-URL:https://www.riversideprideie.org
X-WR-CALDESC:Events for Riverside LGBTQ+ Pride
REFRESH-INTERVAL;VALUE=DURATION:PT1H
X-Robots-Tag:noindex
X-PUBLISHED-TTL:PT1H
BEGIN:VTIMEZONE
TZID:America/Los_Angeles
BEGIN:DAYLIGHT
TZOFFSETFROM:-0800
TZOFFSETTO:-0700
TZNAME:PDT
DTSTART:20230312T100000
END:DAYLIGHT
BEGIN:STANDARD
TZOFFSETFROM:-0700
TZOFFSETTO:-0800
TZNAME:PST
DTSTART:20231105T090000
END:STANDARD
END:VTIMEZONE
BEGIN:VEVENT
DTSTART;TZID=America/Los_Angeles:20230816T080000
DTEND;TZID=America/Los_Angeles:20230816T170000
DTSTAMP:20260421T082247
CREATED:20230816T233941Z
LAST-MODIFIED:20250120T013838Z
UID:10000232-1692172800-1692205200@www.riversideprideie.org
SUMMARY:Mary's Drag BINGO for RivPride
DESCRIPTION:Kick-off to Riverside’s Inland Empire Pride Festival 2023! \n\n\n\nHosted by Jazmyn Simone-Echelon! Join us as we fundraise for us! Bring your family & friends for a night of Drag\, dinner\, drinks & fun.  \n\n\n\nAll donations from this event will go directly back to fund our annual festival and keep it FREE. \n\n\n\nRSVP for a night of laughs and the opportunity to win some fabulous prizes. \n\n\n\nGame starts at 6:30pm! Reservations begin at 5:00pm! \n\n\n\n August 31st \n\n\n\n RSVP on Yelp ! \n\n\n\n For assistance call 909-944-9400 \n\n\n\n $20 donation allows 8 rounds of bingo
URL:https://www.riversideprideie.org/event/8254/
LOCATION:Hamburger Mary’s Ontario\, 3550 E Porsche Way\, Ontario\, California\, 91764\, United States
CATEGORIES:Pride Events
ATTACH;FMTTYPE=image/png:https://www.riversideprideie.org/wp-content/uploads/hamburger-mary-bingo-20230831.png
ORGANIZER;CN="Hamburger Mary's Ontario":MAILTO:ontario-cal@hamburgermarys.com
END:VEVENT
BEGIN:VEVENT
DTSTART;TZID=America/Los_Angeles:20230826T090000
DTEND;TZID=America/Los_Angeles:20230826T110000
DTSTAMP:20260421T082247
CREATED:20220907T233657Z
LAST-MODIFIED:20231016T232014Z
UID:10000236-1693040400-1693047600@www.riversideprideie.org
SUMMARY:Street Clean Up - Merrill Ave
DESCRIPTION:Riverside LGBTQ+ Pride has adopted Merrill Avenue and we need your help to keep it litter free. Join us for our street clean up every other month! \n\n\n\nRally Spot \n\n\n\nWe will be meeting at VIP Nightclub and Restaurant parking lot.  \n\n\n\nWhat to bring \n\n\n\nTrash bags\, pickers and gloves will be provided. We will also have water jugs available. Please bring your own water bottles\, sunscreen and hats.
URL:https://www.riversideprideie.org/event/street-clean-up-merrill-ave-2/2023-08-26/
LOCATION:VIP Nightclub & Restaurant\, 3673 Merrill Ave\, Riverside\, CA\, 92506\, United States
CATEGORIES:Pride Events
ATTACH;FMTTYPE=image/png:https://www.riversideprideie.org/wp-content/uploads/Street-Clean-Up-Merrill-Avenue.png
END:VEVENT
BEGIN:VEVENT
DTSTART;TZID=America/Los_Angeles:20230826T090000
DTEND;TZID=America/Los_Angeles:20230826T110000
DTSTAMP:20260421T082247
CREATED:20231222T213441Z
LAST-MODIFIED:20250120T020239Z
UID:10000248-1693040400-1693047600@www.riversideprideie.org
SUMMARY:Street Clean Up - Merrill Ave
DESCRIPTION:Riverside LGBTQ+ Pride has adopted Merrill Avenue and we need your help to keep it litter free. Join us for our street clean up every other month!  \n\n\n\nRally Spot \n\n\n\nWe will be meeting at VIP Nightclub and Restaurant parking lot.  \n\n\n\nWhat to bring \n\n\n\nTrash bags\, pickers and gloves will be provided. We will also have water jugs available. Please bring your own water bottles\, sunscreen and hats.
URL:https://www.riversideprideie.org/event/street-clean-up-merrill-ave-5/2023-08-26/
LOCATION:VIP Nightclub & Restaurant\, 3673 Merrill Ave\, Riverside\, CA\, 92506\, United States
CATEGORIES:Pride Events
ATTACH;FMTTYPE=image/png:https://www.riversideprideie.org/wp-content/uploads/Street-Clean-Up-Merrill-Avenue.png
END:VEVENT
END:VCALENDAR