BEGIN:VCALENDAR
VERSION:2.0
PRODID:-//Riverside LGBTQ+ Pride - ECPv6.14.0//NONSGML v1.0//EN
CALSCALE:GREGORIAN
METHOD:PUBLISH
X-ORIGINAL-URL:https://www.riversideprideie.org
X-WR-CALDESC:Events for Riverside LGBTQ+ Pride
REFRESH-INTERVAL;VALUE=DURATION:PT1H
X-Robots-Tag:noindex
X-PUBLISHED-TTL:PT1H
BEGIN:VTIMEZONE
TZID:America/Los_Angeles
BEGIN:DAYLIGHT
TZOFFSETFROM:-0800
TZOFFSETTO:-0700
TZNAME:PDT
DTSTART:20230312T100000
END:DAYLIGHT
BEGIN:STANDARD
TZOFFSETFROM:-0700
TZOFFSETTO:-0800
TZNAME:PST
DTSTART:20231105T090000
END:STANDARD
END:VTIMEZONE
BEGIN:VEVENT
DTSTART;TZID=America/Los_Angeles:20230603T180000
DTEND;TZID=America/Los_Angeles:20230603T230000
DTSTAMP:20260421T113614
CREATED:20230123T033644Z
LAST-MODIFIED:20250120T013848Z
UID:10000208-1685815200-1685833200@www.riversideprideie.org
SUMMARY:Riverside Pride Gayla 2023 - Moulin Rouge!
DESCRIPTION:Join us for a Moulin Rouge-themed ravishing good time at the Grand Valley Ballroom in Moreno Valley!June 3\, 6 – 11 PM\n\n\n\n\n\nAll funds raised go towards keeping our September Pride festival free! Can't attend? Consider a donation instead. \n\n\n\n\n\n\nJump to Tickets\n\n\n\n\n\n\nThank you to all of our 2023 sponsors!\n\n\n\nPlatinum\n\n\n\n\n\n\n\n\n\n\n\n\n\n\n\nGold\n\n\n\n\n\n\n\n\n\n\n\n\n\n\n\n\n\n\n\n\nSilver\n\n\n\n\n\n\n\n\n\n\n\n\n\n\n\n\n\n\n\n\n\n\n\n\n\n\n\n\n\n\n\n\n\n\n\n\n\n\n\n\n\n\n\n\n\n\n\nInterested in sponsoring this fabulous black-tie event\, please check out our sponsorship packet. \n\n\n\nAbout Grand Valley Ballroom\n\n\n\n\n\n\n\nLocated in the Moreno Valley Conference and Recreation Center\, the Grand Valley Ballroom is a 8\,200 sq. ft. venue with an outdoor patio\, full kitchen\, stage\, dressing rooms and full video/movie screen. \n\n\n\n\n\n\n\n\n\n\n\n\n\n\n\n\n\n\n\n\n\n\n\n\n\nThe night of ravishing good time will include…\n\n\n\n\n\n\n\n🔞 18+ event \n\n\n\nOur smashing gayla returns for 2023 and we promise a ravishing good time! All funds raised go towards the September Pride festival \n\n\n\nFood and Drinks\n\n\n\n\nHors d'oeuvres\n\n\n\nChampagne toast\n\n\n\nAn elegant served dinner and dessert\n\n\n\nCash bar\n\n\n\n\nEntertainment and Programming\n\n\n\n\nRiverside Pride Awards Ceremony\n\n\n\nLGBTQ+ Community Speakers\n\n\n\nMoulin Rouge-inspired Live entertainment\n\n\n\nSilent auction\n\n\n\nDJ and dancing\n\n\n\nTarot card reading\n\n\n\nPhoto ops in our photo booth\n\n\n\n\n\n\n\n\nFeaturing…\n\n\n\n\n\n\n\n\n\n@athenakillsofficial\n\n\nYour Host: Athena Kills\n\n\n\nKILLIN it every time! Athena Kills definitely killed it at our festival last year. For gayla this year\, we are so excited for her to be the host! Expect fierce performances that will slay the crowd. When Athena is not on stage slaying\, she is also an HIV advocate. \n\n\n\n\n\n@kittendeville\n\n\nKitten de Ville\n\n\n\nKnown as “The Embodiment of Burlesque”\, Kitten de Ville performs across the United States and Europe -where she headlines with a variety of top musicians and performers from around the globe. Kitten is credited as one of the originators of the New Burlesque movement. Starting her career in 1994 with The Los Angeles based troupe The Velvet Hammer whose sold out shows were responsible for reviving the Art of Burlesque. \n\n\n\nCharlotte La Belle Araignée\n\n\n\n@charlottelabellearaignee \n\n\n\nCharlotte La Belle Araignée is an international performer and producer of the Inland Empire's first ongoing Neo-Burlesque show\, “Buckingham Burlesque”…The Starlet with all the sexy stylish moves of a spider without the nasty bite! \n\n\n\n\n\n@sirens_rhythmbeatz\n\n\nRhythm Beatz Sirens Heels Company\n\n\n\nSirens are a dance group formed to help empower women. They promote body positivity\, self love\, and empowering others to do what they love. They tore the floor of the main stage at our festival last year. \n\n\n\nWe so look forward to seeing what they come up for our gayla this year! \n\n\n\n\n\n \n\n\n\nAbout the Riverside Pride Awards Ceremony\n\n\n\n\n\n\n\n\n\n\n\n\n\n\nRiverside Pride is excited to honor individuals and organizations that have made positive contributions towards the advancement of LGBTQ+ equality and advocacy in the Inland Empire region. Award winners will be celebrated at this year's Riverside Pride Gayla. Nominees are evaluated on the basis of leadership and commitment to the LGBTQ+ community. Take a look at last year's winners. \n\n\n\nNominations closed on Sunday\, April 16th at 11:59pm. Thank you! \n\n\n\n\n\n \n\n\n\nFrequently Asked Questions\n\n\n\n\n\n\n\nHow are seating assigned? Individual ticket holders will be seated based on availability. Tickets from the same order will be seated together (maximum per table is 8).   Can I request to be seated next to specific attendees? To request seats next to specific attendees\, please note this request in the “Order Notes” by your billing information during checkout. We will do our best to honor all requests but cannot guarantee any seating arrangements.   Is there a dress code? This is a black-tie event – “eleganza” attire and/or looks fitting for the Moulin Rouge theme is highly recommended!
URL:https://www.riversideprideie.org/event/riverside-pride-gayla-2023/
LOCATION:Moreno Valley Conference and Recreation Center\, 14075 Frederick St\, Moreno Valley\, CA\, 92553\, United States
CATEGORIES:Pride Events
ATTACH;FMTTYPE=image/png:https://www.riversideprideie.org/wp-content/uploads/Cabaret-Gayla.png
END:VEVENT
END:VCALENDAR