BEGIN:VCALENDAR
VERSION:2.0
PRODID:-//Riverside LGBTQ+ Pride - ECPv6.14.0//NONSGML v1.0//EN
CALSCALE:GREGORIAN
METHOD:PUBLISH
X-ORIGINAL-URL:https://www.riversideprideie.org
X-WR-CALDESC:Events for Riverside LGBTQ+ Pride
REFRESH-INTERVAL;VALUE=DURATION:PT1H
X-Robots-Tag:noindex
X-PUBLISHED-TTL:PT1H
BEGIN:VTIMEZONE
TZID:America/Los_Angeles
BEGIN:DAYLIGHT
TZOFFSETFROM:-0800
TZOFFSETTO:-0700
TZNAME:PDT
DTSTART:20230312T100000
END:DAYLIGHT
BEGIN:STANDARD
TZOFFSETFROM:-0700
TZOFFSETTO:-0800
TZNAME:PST
DTSTART:20231105T090000
END:STANDARD
END:VTIMEZONE
BEGIN:VEVENT
DTSTART;TZID=America/Los_Angeles:20230505T180000
DTEND;TZID=America/Los_Angeles:20230505T193000
DTSTAMP:20260421T130113
CREATED:20230501T032747Z
LAST-MODIFIED:20230505T190241Z
UID:10000221-1683309600-1683315000@www.riversideprideie.org
SUMMARY:Volunteer Meet and Greet
DESCRIPTION:We are excited to invite you to our upcoming volunteer meet and greet! As a valued member of our community\, we believe that you have the passion and dedication to make a real difference in the lives of those around you. \n\n\n\nWe will be answering all these questions: \n\n\n\n\nWho is Riverside LGBTQIA+ Pride?\n\n\n\nWhat are the opportunities?\n\n\n\nWhat is the process?\n\n\n\n\nWe encourage you to bring a friend or family member who may also be interested in volunteering with us. Light refreshments will be provided. \n\n\n\nPlease RSVP below by 5/3/2023 to let us know if you can attend. We look forward to seeing you there!
URL:https://www.riversideprideie.org/event/volunteer-meet-and-greet/
LOCATION:Sycamore Highlands Park\, 5777 Fair Isle Dr\, Riverside\, CA\, 92507\, United States
CATEGORIES:Pride Events
ATTACH;FMTTYPE=image/png:https://www.riversideprideie.org/wp-content/uploads/Icha-Volunteers-Get-Together-1.png
END:VEVENT
BEGIN:VEVENT
DTSTART;TZID=America/Los_Angeles:20230513T090000
DTEND;TZID=America/Los_Angeles:20230513T110000
DTSTAMP:20260421T130113
CREATED:20220907T233657Z
LAST-MODIFIED:20231016T232014Z
UID:10000229-1683968400-1683975600@www.riversideprideie.org
SUMMARY:Street Clean Up - Merrill Ave
DESCRIPTION:Riverside LGBTQ+ Pride has adopted Merrill Avenue and we need your help to keep it litter free. Join us for our street clean up every other month! \n\n\n\nRally Spot \n\n\n\nWe will be meeting at VIP Nightclub and Restaurant parking lot.  \n\n\n\nWhat to bring \n\n\n\nTrash bags\, pickers and gloves will be provided. We will also have water jugs available. Please bring your own water bottles\, sunscreen and hats.
URL:https://www.riversideprideie.org/event/street-clean-up-merrill-ave-2/2023-05-13/
LOCATION:VIP Nightclub & Restaurant\, 3673 Merrill Ave\, Riverside\, CA\, 92506\, United States
CATEGORIES:Pride Events
ATTACH;FMTTYPE=image/png:https://www.riversideprideie.org/wp-content/uploads/Street-Clean-Up-Merrill-Avenue.png
END:VEVENT
BEGIN:VEVENT
DTSTART;TZID=America/Los_Angeles:20230513T090000
DTEND;TZID=America/Los_Angeles:20230513T110000
DTSTAMP:20260421T130113
CREATED:20230509T034039Z
LAST-MODIFIED:20230509T181313Z
UID:10000220-1683968400-1683975600@www.riversideprideie.org
SUMMARY:Street Clean Up - Merrill Ave
DESCRIPTION:Riverside LGBTQ+ Pride has adopted Merrill Avenue and we need your help to keep it litter free. Join us for our street clean up every other month! \n\n\n\nThe Great American Cleanup Edition \n\n\n\nFor the May 13\, 2023 clean up\, it will be officially part of The Great American Cleanup day by Keep Riverside Clean and Beautiful. All volunteers will receive a complimentary t-shirt\, and eligible for complimentary lunch at the Greater Riverside Chamber of Commerce (3985 University Ave. Riverside\, CA 92501).  \n\n\n\nRally Spot \n\n\n\nWe will be meeting at VIP Nightclub and Restaurant parking lot.  \n\n\n\nWhat to bring \n\n\n\nTrash bags\, pickers and gloves will be provided. We will also have water jugs available. Please bring your own water bottles\, sunscreen and hats.
URL:https://www.riversideprideie.org/event/street-clean-up-merrill-ave-3/
LOCATION:VIP Nightclub & Restaurant\, 3673 Merrill Ave\, Riverside\, CA\, 92506\, United States
CATEGORIES:Pride Events
ATTACH;FMTTYPE=image/png:https://www.riversideprideie.org/wp-content/uploads/Street-Cleanup-Great-American-Cleanup-Edition-1.png
END:VEVENT
BEGIN:VEVENT
DTSTART;TZID=America/Los_Angeles:20230513T090000
DTEND;TZID=America/Los_Angeles:20230513T110000
DTSTAMP:20260421T130113
CREATED:20231222T213441Z
LAST-MODIFIED:20250120T020239Z
UID:10000247-1683968400-1683975600@www.riversideprideie.org
SUMMARY:Street Clean Up - Merrill Ave
DESCRIPTION:Riverside LGBTQ+ Pride has adopted Merrill Avenue and we need your help to keep it litter free. Join us for our street clean up every other month!  \n\n\n\nRally Spot \n\n\n\nWe will be meeting at VIP Nightclub and Restaurant parking lot.  \n\n\n\nWhat to bring \n\n\n\nTrash bags\, pickers and gloves will be provided. We will also have water jugs available. Please bring your own water bottles\, sunscreen and hats.
URL:https://www.riversideprideie.org/event/street-clean-up-merrill-ave-5/2023-05-13/
LOCATION:VIP Nightclub & Restaurant\, 3673 Merrill Ave\, Riverside\, CA\, 92506\, United States
CATEGORIES:Pride Events
ATTACH;FMTTYPE=image/png:https://www.riversideprideie.org/wp-content/uploads/Street-Clean-Up-Merrill-Avenue.png
END:VEVENT
END:VCALENDAR