BEGIN:VCALENDAR
VERSION:2.0
PRODID:-//Riverside LGBTQ+ Pride - ECPv6.14.0//NONSGML v1.0//EN
CALSCALE:GREGORIAN
METHOD:PUBLISH
X-ORIGINAL-URL:https://www.riversideprideie.org
X-WR-CALDESC:Events for Riverside LGBTQ+ Pride
REFRESH-INTERVAL;VALUE=DURATION:PT1H
X-Robots-Tag:noindex
X-PUBLISHED-TTL:PT1H
BEGIN:VTIMEZONE
TZID:America/Los_Angeles
BEGIN:DAYLIGHT
TZOFFSETFROM:-0800
TZOFFSETTO:-0700
TZNAME:PDT
DTSTART:20230312T100000
END:DAYLIGHT
BEGIN:STANDARD
TZOFFSETFROM:-0700
TZOFFSETTO:-0800
TZNAME:PST
DTSTART:20231105T090000
END:STANDARD
END:VTIMEZONE
BEGIN:VEVENT
DTSTART;TZID=America/Los_Angeles:20230312T090000
DTEND;TZID=America/Los_Angeles:20230312T110000
DTSTAMP:20260421T161444
CREATED:20220907T233657Z
LAST-MODIFIED:20231016T232014Z
UID:10000214-1678611600-1678618800@www.riversideprideie.org
SUMMARY:Street Clean Up - Merrill Ave
DESCRIPTION:Riverside LGBTQ+ Pride has adopted Merrill Avenue and we need your help to keep it litter free. Join us for our street clean up every other month! \n\n\n\nRally Spot \n\n\n\nWe will be meeting at VIP Nightclub and Restaurant parking lot.  \n\n\n\nWhat to bring \n\n\n\nTrash bags\, pickers and gloves will be provided. We will also have water jugs available. Please bring your own water bottles\, sunscreen and hats.
URL:https://www.riversideprideie.org/event/street-clean-up-merrill-ave-2/2023-03-12/
LOCATION:VIP Nightclub & Restaurant\, 3673 Merrill Ave\, Riverside\, CA\, 92506\, United States
CATEGORIES:Pride Events
ATTACH;FMTTYPE=image/png:https://www.riversideprideie.org/wp-content/uploads/Street-Clean-Up-Merrill-Avenue.png
END:VEVENT
BEGIN:VEVENT
DTSTART;TZID=America/Los_Angeles:20230312T090000
DTEND;TZID=America/Los_Angeles:20230312T110000
DTSTAMP:20260421T161444
CREATED:20231222T213441Z
LAST-MODIFIED:20250120T020239Z
UID:10000246-1678611600-1678618800@www.riversideprideie.org
SUMMARY:Street Clean Up - Merrill Ave
DESCRIPTION:Riverside LGBTQ+ Pride has adopted Merrill Avenue and we need your help to keep it litter free. Join us for our street clean up every other month!  \n\n\n\nRally Spot \n\n\n\nWe will be meeting at VIP Nightclub and Restaurant parking lot.  \n\n\n\nWhat to bring \n\n\n\nTrash bags\, pickers and gloves will be provided. We will also have water jugs available. Please bring your own water bottles\, sunscreen and hats.
URL:https://www.riversideprideie.org/event/street-clean-up-merrill-ave-5/2023-03-12/
LOCATION:VIP Nightclub & Restaurant\, 3673 Merrill Ave\, Riverside\, CA\, 92506\, United States
CATEGORIES:Pride Events
ATTACH;FMTTYPE=image/png:https://www.riversideprideie.org/wp-content/uploads/Street-Clean-Up-Merrill-Avenue.png
END:VEVENT
BEGIN:VEVENT
DTSTART;TZID=America/Los_Angeles:20230318T210000
DTEND;TZID=America/Los_Angeles:20230318T230000
DTSTAMP:20260421T161444
CREATED:20230126T072123Z
LAST-MODIFIED:20230309T011421Z
UID:10000209-1679173200-1679180400@www.riversideprideie.org
SUMMARY:Cosmic Bowling Returns!
DESCRIPTION:🎳 Cosmic bowling with PRIDE returns in 2023 🎳 \n\n\n\n\n\n\n\n\n\n\n\n\n\n\n\n\n\n\n\n\n\n\n\n\n\n\n\n\n\nCosmic Bowling with Pride 2022\n\n\n\n\n\n\n\nLast year's sold out event returns in 2023! Join Riverside LGBTQ+ Pride under the neon lights for a night of cosmic bowling at Arlington Lanes! Tickets are $20 per person\, or $120 for entire lane.  \n\n\n\nEach ticket includes: \n\n\n\n\n2 hours of bowling\n\n\n\nShoes rental\n\n\n\nAccess to swag table\n\n\n\n\nA portion of every ticket sold helps fund the upcoming Riverside LGBTQ+ Pride Festival in September 2023!  6 people per lane\, smaller groups may be matched with new friends. Check-in opens at 8pm. \n\n\n\nCome out and join us for a night of COSMIC fun and Pride. This event will sell out so don't wait! Get Tickets below. \n\n\n\n\n\n\n\n\n\n\n\n\n\n\n\n\n\nTicket sales are subject to our Terms of Service.
URL:https://www.riversideprideie.org/event/cosmic-bowling-returns/
LOCATION:Arlington Lanes\, 7100 Arlington Ave\, Riverside\, CA\, 92503\, United States
CATEGORIES:Pride Events
ATTACH;FMTTYPE=image/png:https://www.riversideprideie.org/wp-content/uploads/Bowl-with-PRIDE-Sold-Out.png
END:VEVENT
BEGIN:VEVENT
DTSTART;TZID=America/Los_Angeles:20230328T133000
DTEND;TZID=America/Los_Angeles:20230328T150000
DTSTAMP:20260421T161444
CREATED:20230317T030101Z
LAST-MODIFIED:20230324T173311Z
UID:10000216-1680010200-1680015600@www.riversideprideie.org
SUMMARY:Transgender Day of Visibility Panel
DESCRIPTION:Riverside LGBTQ+ Pride is co-hosting this panel with Community Advocating for Gender & Sexuality Issues (CAGSI) \n\n\n\nJoin us virtually for a discussion on trans visibility where our panelists speak on their experiences as trans folks living in the IE.
URL:https://www.riversideprideie.org/event/transgender-day-of-visibility-panel/
LOCATION:Virtual
CATEGORIES:Pride Events
ATTACH;FMTTYPE=image/png:https://www.riversideprideie.org/wp-content/uploads/IG-Transgender-Day-of-Visibility-Community-Panel-.png
END:VEVENT
BEGIN:VEVENT
DTSTART;TZID=America/Los_Angeles:20230331T160000
DTEND;TZID=America/Los_Angeles:20230331T180000
DTSTAMP:20260421T161444
CREATED:20230324T171323Z
LAST-MODIFIED:20250120T020551Z
UID:10000217-1680278400-1680285600@www.riversideprideie.org
SUMMARY:March for Queer & Trans Youth Autonomy
DESCRIPTION:Join Riverside LGBTQ+ Pride and march in solidarity with Queer Youth Assemble in DC for the Queer & Trans Youth Autonomy March on Fri\, Mar 31 @ 4 PM.  \n\n\n\nIt's time we collectively advocate for Trans & Queer youth as one. We will assemble outside of Back to the Grind in downtown Riverside\, and march towards Riverside City Hall. Then\, we will listen to a few different speakers on the issues facing trans and queer youth today. \n\n\n\nSpeakers\n\n\n\n\nCouncilmember Erin Edwards\, Ward 1\, Riverside City Council\n\n\n\nAssemblymember Sabrina Cervantes\, District 58\, California State Assembly\n\n\n\nCongressman Mark Takano\, District 39 California\, US House of Representatives\n\n\n\nJoy Silver\, Riverside County Democratic Party Chair\n\n\n\nSteff Warsinski\, Transgender Health & Wellness Center Board Secretary\n\n\n\n\n\n\n\n\n\nCouncilmember Erin Edwards\n\n\n\nAssemblymember Sabrina Cervantes\n\n\n\nCongressman Mark Takano\n\n\n\nParty Chair Joy Silver\n\n\n\nBoard Secretary Steff Warsinski\n\n\n\n\n\n\n\n\n\n\n\n\n\n\n\n\n\n\n\n\n\n\n\n\n\n\n\n\n\n\nCheck out https://riverside.lgbt/qya-march to sign this list of demands. \n\n\n\nLet us know you are coming! \n\n\n\n\nFacebook\n\n\n\nMeetUp\n\n\n\nEventbrite
URL:https://www.riversideprideie.org/event/march-for-queer-trans-youth-autonomy/
LOCATION:Back to the Grind\, 3575 University Ave\, Riverside\, California\, 92501\, United States
CATEGORIES:Advocacy Network,Pride Events
ATTACH;FMTTYPE=image/png:https://www.riversideprideie.org/wp-content/uploads/March-Flyer.png
END:VEVENT
END:VCALENDAR