BEGIN:VCALENDAR
VERSION:2.0
PRODID:-//Riverside LGBTQ+ Pride - ECPv6.14.0//NONSGML v1.0//EN
CALSCALE:GREGORIAN
METHOD:PUBLISH
X-ORIGINAL-URL:https://www.riversideprideie.org
X-WR-CALDESC:Events for Riverside LGBTQ+ Pride
REFRESH-INTERVAL;VALUE=DURATION:PT1H
X-Robots-Tag:noindex
X-PUBLISHED-TTL:PT1H
BEGIN:VTIMEZONE
TZID:America/Los_Angeles
BEGIN:DAYLIGHT
TZOFFSETFROM:-0800
TZOFFSETTO:-0700
TZNAME:PDT
DTSTART:20220313T100000
END:DAYLIGHT
BEGIN:STANDARD
TZOFFSETFROM:-0700
TZOFFSETTO:-0800
TZNAME:PST
DTSTART:20221106T090000
END:STANDARD
END:VTIMEZONE
BEGIN:VEVENT
DTSTART;TZID=America/Los_Angeles:20221204T090000
DTEND;TZID=America/Los_Angeles:20221204T110000
DTSTAMP:20260421T212120
CREATED:20220907T233657Z
LAST-MODIFIED:20231016T232014Z
UID:10000201-1670144400-1670151600@www.riversideprideie.org
SUMMARY:Street Clean Up - Merrill Ave
DESCRIPTION:Riverside LGBTQ+ Pride has adopted Merrill Avenue and we need your help to keep it litter free. Join us for our street clean up every other month! \n\n\n\nRally Spot \n\n\n\nWe will be meeting at VIP Nightclub and Restaurant parking lot.  \n\n\n\nWhat to bring \n\n\n\nTrash bags\, pickers and gloves will be provided. We will also have water jugs available. Please bring your own water bottles\, sunscreen and hats.
URL:https://www.riversideprideie.org/event/street-clean-up-merrill-ave-2/2022-12-04/
LOCATION:VIP Nightclub & Restaurant\, 3673 Merrill Ave\, Riverside\, CA\, 92506\, United States
CATEGORIES:Pride Events
ATTACH;FMTTYPE=image/png:https://www.riversideprideie.org/wp-content/uploads/Street-Clean-Up-Merrill-Avenue.png
END:VEVENT
BEGIN:VEVENT
DTSTART;TZID=America/Los_Angeles:20221204T090000
DTEND;TZID=America/Los_Angeles:20221204T110000
DTSTAMP:20260421T212120
CREATED:20231222T213441Z
LAST-MODIFIED:20250120T020239Z
UID:10000245-1670144400-1670151600@www.riversideprideie.org
SUMMARY:Street Clean Up - Merrill Ave
DESCRIPTION:Riverside LGBTQ+ Pride has adopted Merrill Avenue and we need your help to keep it litter free. Join us for our street clean up every other month!  \n\n\n\nRally Spot \n\n\n\nWe will be meeting at VIP Nightclub and Restaurant parking lot.  \n\n\n\nWhat to bring \n\n\n\nTrash bags\, pickers and gloves will be provided. We will also have water jugs available. Please bring your own water bottles\, sunscreen and hats.
URL:https://www.riversideprideie.org/event/street-clean-up-merrill-ave-5/2022-12-04/
LOCATION:VIP Nightclub & Restaurant\, 3673 Merrill Ave\, Riverside\, CA\, 92506\, United States
CATEGORIES:Pride Events
ATTACH;FMTTYPE=image/png:https://www.riversideprideie.org/wp-content/uploads/Street-Clean-Up-Merrill-Avenue.png
END:VEVENT
BEGIN:VEVENT
DTSTART;TZID=America/Los_Angeles:20221211T160000
DTEND;TZID=America/Los_Angeles:20221211T190000
DTSTAMP:20260421T212120
CREATED:20221123T191850Z
LAST-MODIFIED:20230304T201829Z
UID:10000184-1670774400-1670785200@www.riversideprideie.org
SUMMARY:Riverside Pride HoliGay 2022
DESCRIPTION:Join us this holiday season in a casual and warm gathering. In the spirit of giving\, 50% of ticket sales will go towards a fund setup by Riverside LGBTQ+ Pride to benefit local LGBTQ+ social groups and charities. Details on how to apply for this fund will be released later. \n\n\n\n\n\n\n\nWhat can you expect?\n\n\n\n\n\n\n\n😋 Food and drinks \n\n\n\n\nAppetizers and hor dourves\, with vegan options\n\n\n\n1 drink included in each ticket\, additional available for purchase\n\n\n\n\n🎵 Music and drag show \n\n\n\n\n\n\nMusic and dancing\n\n\n\nDrag show to close the event\n\nAthena Kills\n\n\n\nWhisper\n\n\n\n\n\n\n\n\nAthena Kills\n\n\n\n\nWhisper\n\n\n\n\n❄️ Make your own ornaments \n\n\n\n\nMaterials will be provided for you to decorate your own ornaments\n\n\n\nCreate your own memory\n\n\n\n\n🍪 Decorate gingerbread cookies \n\n\n\n\nBlank gingerbread cookies and edible decorations will be provided\n\n\n\n\n🎲 Lawn games \n\n\n\n\nOutdoor space will have a few lawn games to stretch and breath in the fresh holiday air\n\n\n\n\n🎄 Best holiday day outfit contest \n\n\n\n\nCasual contest of best holiday day outfit\n\n\n\nBe creative\, no rules\n\n\n\nPrize: $25 Amazon gift card\n\n\n\nWinner to be announced in drag show\n\n\n\n\n\n\n\n\nJoin us and help us give back to the community!
URL:https://www.riversideprideie.org/event/riverside-pride-holigay-2022/
LOCATION:Towngate Community Center\, 13100 Arbor Park Ln\, Moreno Valley\, California\, 92553\, United States
CATEGORIES:Pride Events
ATTACH;FMTTYPE=image/png:https://www.riversideprideie.org/wp-content/uploads/Holigay22.png
END:VEVENT
END:VCALENDAR