BEGIN:VCALENDAR
VERSION:2.0
PRODID:-//Riverside LGBTQ+ Pride - ECPv6.14.0//NONSGML v1.0//EN
CALSCALE:GREGORIAN
METHOD:PUBLISH
X-ORIGINAL-URL:https://www.riversideprideie.org
X-WR-CALDESC:Events for Riverside LGBTQ+ Pride
REFRESH-INTERVAL;VALUE=DURATION:PT1H
X-Robots-Tag:noindex
X-PUBLISHED-TTL:PT1H
BEGIN:VTIMEZONE
TZID:America/Los_Angeles
BEGIN:DAYLIGHT
TZOFFSETFROM:-0800
TZOFFSETTO:-0700
TZNAME:PDT
DTSTART:20220313T100000
END:DAYLIGHT
BEGIN:STANDARD
TZOFFSETFROM:-0700
TZOFFSETTO:-0800
TZNAME:PST
DTSTART:20221106T090000
END:STANDARD
END:VTIMEZONE
BEGIN:VEVENT
DTSTART;TZID=America/Los_Angeles:20221001T090000
DTEND;TZID=America/Los_Angeles:20221001T110000
DTSTAMP:20260422T005859
CREATED:20220907T233657Z
LAST-MODIFIED:20231016T232014Z
UID:10000200-1664614800-1664622000@www.riversideprideie.org
SUMMARY:Street Clean Up - Merrill Ave
DESCRIPTION:Riverside LGBTQ+ Pride has adopted Merrill Avenue and we need your help to keep it litter free. Join us for our street clean up every other month! \n\n\n\nRally Spot \n\n\n\nWe will be meeting at VIP Nightclub and Restaurant parking lot.  \n\n\n\nWhat to bring \n\n\n\nTrash bags\, pickers and gloves will be provided. We will also have water jugs available. Please bring your own water bottles\, sunscreen and hats.
URL:https://www.riversideprideie.org/event/street-clean-up-merrill-ave-2/2022-10-01/
LOCATION:VIP Nightclub & Restaurant\, 3673 Merrill Ave\, Riverside\, CA\, 92506\, United States
CATEGORIES:Pride Events
ATTACH;FMTTYPE=image/png:https://www.riversideprideie.org/wp-content/uploads/Street-Clean-Up-Merrill-Avenue.png
END:VEVENT
BEGIN:VEVENT
DTSTART;TZID=America/Los_Angeles:20221001T090000
DTEND;TZID=America/Los_Angeles:20221001T110000
DTSTAMP:20260422T005859
CREATED:20231222T213441Z
LAST-MODIFIED:20250120T020239Z
UID:10000244-1664614800-1664622000@www.riversideprideie.org
SUMMARY:Street Clean Up - Merrill Ave
DESCRIPTION:Riverside LGBTQ+ Pride has adopted Merrill Avenue and we need your help to keep it litter free. Join us for our street clean up every other month!  \n\n\n\nRally Spot \n\n\n\nWe will be meeting at VIP Nightclub and Restaurant parking lot.  \n\n\n\nWhat to bring \n\n\n\nTrash bags\, pickers and gloves will be provided. We will also have water jugs available. Please bring your own water bottles\, sunscreen and hats.
URL:https://www.riversideprideie.org/event/street-clean-up-merrill-ave-5/2022-10-01/
LOCATION:VIP Nightclub & Restaurant\, 3673 Merrill Ave\, Riverside\, CA\, 92506\, United States
CATEGORIES:Pride Events
ATTACH;FMTTYPE=image/png:https://www.riversideprideie.org/wp-content/uploads/Street-Clean-Up-Merrill-Avenue.png
END:VEVENT
BEGIN:VEVENT
DTSTART;TZID=America/Los_Angeles:20221028T190000
DTEND;TZID=America/Los_Angeles:20221028T210000
DTSTAMP:20260422T005859
CREATED:20221007T231925Z
LAST-MODIFIED:20230304T202041Z
UID:10000203-1666983600-1666990800@www.riversideprideie.org
SUMMARY:Bobaween - Boba Mixer
DESCRIPTION:Stop by to celebrate Bobaween with Riverside Pride and Boba Tea House! Come enjoy some delicious food and drinks to start off the Halloween weekend! Costumes are encouraged! 
URL:https://www.riversideprideie.org/event/bobaween-boba-mixer/
LOCATION:Boba Tea House\, 767 W Blaine St.\, Riverside\, CA\, 92507\, United States
CATEGORIES:Pride Events
ATTACH;FMTTYPE=image/png:https://www.riversideprideie.org/wp-content/uploads/Boba-tea-Mixer-1.png
END:VEVENT
END:VCALENDAR