BEGIN:VCALENDAR
VERSION:2.0
PRODID:-//Riverside LGBTQ+ Pride - ECPv6.14.0//NONSGML v1.0//EN
CALSCALE:GREGORIAN
METHOD:PUBLISH
X-WR-CALNAME:Riverside LGBTQ+ Pride
X-ORIGINAL-URL:https://www.riversideprideie.org
X-WR-CALDESC:Events for Riverside LGBTQ+ Pride
REFRESH-INTERVAL;VALUE=DURATION:PT1H
X-Robots-Tag:noindex
X-PUBLISHED-TTL:PT1H
BEGIN:VTIMEZONE
TZID:America/Los_Angeles
BEGIN:DAYLIGHT
TZOFFSETFROM:-0800
TZOFFSETTO:-0700
TZNAME:PDT
DTSTART:20220313T100000
END:DAYLIGHT
BEGIN:STANDARD
TZOFFSETFROM:-0700
TZOFFSETTO:-0800
TZNAME:PST
DTSTART:20221106T090000
END:STANDARD
END:VTIMEZONE
BEGIN:VEVENT
DTSTART;TZID=America/Los_Angeles:20220904T130000
DTEND;TZID=America/Los_Angeles:20220904T210000
DTSTAMP:20260422T023808
CREATED:20211121T050308Z
LAST-MODIFIED:20250127T180256Z
UID:10000169-1662296400-1662325200@www.riversideprideie.org
SUMMARY:Riverside's Inland Empire Pride Festival 2022
DESCRIPTION:Sun\, Sept 4\, 2022 | 1-9 PM PTRiverside Municipal Auditorium\n\n\n\n\n\n\n\n\n\n\nRainbow Donor\n\n\n\n\n\n\n\n\nEric Plascencia \n\n\n\n\n\n\n\n\n\n\n\n\n\n\nGold Sponsors\n\n\n\n[flipboxes id=”4959″] \n\n\n\n\n\n\n\n\n\n\n\n\n\nApplications\n\n\n\n\n\n\n[flipboxes id=”4788″] \n\n\n\n\n\n\n\n\nSign up for our monthly newsletter\n\n\n\nFollow us on social media everywhere @RiversideLGBTQ\n\n\n\nRSVP on our Facebook event\n\n\n\n\n\n\n\n\nAll information on this page subject to change. \n\n\n\n\n\n\n\nTable of Contents\n\n\n\n\n\n\n\n\nOverview\n\n\n\nMission\n\n\n\nLocation\n\n\n\nElements\n\n\n\nEntertainment\n\n\n\nEducational and Cultural\n\n\n\nYouth Zone\n\n\n\nAccessibility\n\n\n\nPublic Health\n\n\n\n\n\n\n\n\nOverview\n\n\n\n\n\n\n\n#PRIDE is in Riverside! Join us for a day of celebration\, elevation\, and reflection. You will enjoy performances by unique entertainers\, dance to the beat of up-and-coming LGBTQIA+ performers\, learn about LGBTQIA+ history\, and enjoy the company of LGBTQIA+ oriented and friendly organizations and companies.  \n\n\n\nThis is an all-ages FREE event. We have a youth zone dedicated for youth 17 and under. \n\n\n\nRiverside LGBTQ+ Pride is a 501(c)(3) nonprofit charity\, 100% volunteer-powered. We cannot succeed without our dedicated volunteers and the community's support. \n\n\n\n\n\n\n\n\n\n\n\n\n\n\nSilver Sponsors\n\n\n\n[flipboxes id=”4743″] \n\n\n\n\n\n\n\n\nBronze Sponsors\n\n\n\n\n\n\n\n\n\n\n\n\n\n\n\n\n\n\n\n\n\n\n\n\n\n\n\n\n\n\n\n\n\n\n\n\n\n\n\n\n\n\n\n\n\nYouth Zone Sponsor\n\n\n\n\n\n\n\n\n\n\n\n\n\n\n\n\nAdditional Donors\n\n\n\n\n\n\n\n\nChris Rashidian · John Henderson \n\n\n\n\n\n\n\n\nMedia Partner\n\n\n\n\n\n\n\n\n\n\n\n\n\n\n\n\n\n\n\n\n\n\nMission\n\n\n\n\n\n\n\nThe mission of the festival will be to give our communities a safe and fully inclusive place to celebrate their true selves\, educate about LGBTQ+ issues and history\, commemorate those who came before us and who have sacrificed for progress\, and illuminate our current community to increase visibility and shine a light on those making change. \n\n\n\n\n\n\n\nLocation\n\n\n\n\n\n\n\nThe festival will be at the historic Riverside Municipal Auditorium. Located in downtown Riverside. We're buying out the venue and so the entire space will be PRIDE! \n\n\n\n\nExterior\n\n\n\nMusic Hall\n\n\n\nCourtyard\n\n\n\n\n\n\n\n\nElements\n\n\n\n\n\n\n\nMore details will be released as we get closer to the event. Stay tune to this space for links to more details! \n\n\n\n\nMain Stage Entertainment\n\n\n\nExhibitors\n\n\n\nArtist Showcase\n\n\n\nYouth Zone (17 and under)\n\n\n\nFood & Beverage\n\n\n\nDJ and dancing out in the open areas\n\n\n\nInfo & Merchandise\n\n\n\n\n\n\n\n\nEntertainment Line Up\n\n\n\n\n\n\n\nHere is our complete line up for the festival! Follow us on social media @RiversideLGBTQ for actual show time announcements for each performer. \n\n\n\n\n\n\n\n@theonlymayhem\n\n\n\n\n@thapeoplesqueen\n\n\n\n\n@foreignskrilla\n\n\n\n\n@saygoej\n\n\n\n\n\n\n@lyricallyaware\n\n\n\n\n@nebuyaystyles\n\n\n\n\n@athenakillsofficial\n\n\n\n\n\n\n@thegroans\n\n\n\n\n@sol_life_house\n\n\n\n\n@djkontrolfreak\n\n\n\n\n\n\n@sirens_rhythmbeatz_andheelz\n\n\n\n\n@arrlomusic\n\n\n\n\n@pulpvixenband\n\n\n \n\n\n\n\n\n\n\n@respite_band\n\n\n\n\n\n\n\n\n\n\n\n\n\n\n\n\nEducational and Cultural Content\n\n\n\n\n\n\n\nPanels\, speakers\, artist showcase\, LGBTQ history. Follow us on social media @RiversideLGBTQ for announcements! \n\n\n\n\n\n\n\nYouth Zone\n\n\n\n\n\n\n\n\n\n\nOur Youth Zone is designed and will be operated by Rainbow Pride Youth Alliance for youth under 18! Elements include: \n\n\n\n\nQueer history education and coloring table\n\n\n\nGiant Jenga\n\n\n\nTotes decorating\n\n\n\nNintendo Switch playing station\n\n\n\nInteractive game table\n\n\n\nFree library reading area\n\n\n\nPhotobooth\n\n\n\nMake-you-own-button station\n\n\n\n\n\n\n\n\nAccessibility\n\n\n\n\n\n\n\n\n\n\n\n\n\n\n\n\n\n\n\n\n\n\n\n\n\nThe venue is ADA accessible. There will be reserved seating area in front of stage for those who need it. Spoken content on stage will have ASL interpreters. \n\n\n\n\n\n\n\n\n\nPublic Health\n\n\n\nRiverside LGBTQ+ Pride will monitor public health issues and adjust our event as needed. This includes COVID-19 precautions\, as well as MPX (Monkeypox). We are taking MPX seriously. Stay informed and learn more. \n\n\n\nThe Riverside's Inland Empire Pride festival is a smoke-free event. \n\n\n\n\n\n\n\n\nRSVP on our Facebook event!\n\n\n\nSponsors and Vendors Application
URL:https://www.riversideprideie.org/event/riversides-inland-empire-pride/
LOCATION:Riverside Municipal Auditorium\, 3485 Mission Inn Ave\, Riverside\, California\, United States
CATEGORIES:Pride Events
ATTACH;FMTTYPE=image/png:https://www.riversideprideie.org/wp-content/uploads/Festival-Banner.png
ORGANIZER;CN="Riverside LGBTQ+ Pride":MAILTO:help@riversideprideie.org
END:VEVENT
END:VCALENDAR