BEGIN:VCALENDAR
VERSION:2.0
PRODID:-//Riverside LGBTQ+ Pride - ECPv6.14.0//NONSGML v1.0//EN
CALSCALE:GREGORIAN
METHOD:PUBLISH
X-ORIGINAL-URL:https://www.riversideprideie.org
X-WR-CALDESC:Events for Riverside LGBTQ+ Pride
REFRESH-INTERVAL;VALUE=DURATION:PT1H
X-Robots-Tag:noindex
X-PUBLISHED-TTL:PT1H
BEGIN:VTIMEZONE
TZID:America/Los_Angeles
BEGIN:DAYLIGHT
TZOFFSETFROM:-0800
TZOFFSETTO:-0700
TZNAME:PDT
DTSTART:20220313T100000
END:DAYLIGHT
BEGIN:STANDARD
TZOFFSETFROM:-0700
TZOFFSETTO:-0800
TZNAME:PST
DTSTART:20221106T090000
END:STANDARD
END:VTIMEZONE
BEGIN:VEVENT
DTSTART;TZID=America/Los_Angeles:20220723T090000
DTEND;TZID=America/Los_Angeles:20220723T110000
DTSTAMP:20260422T054951
CREATED:20220708T215339Z
LAST-MODIFIED:20230219T233913Z
UID:10000186-1658566800-1658574000@www.riversideprideie.org
SUMMARY:Street Clean Up - Merrill Ave
DESCRIPTION:Riverside LGBTQ+ Pride is adopting Merrill Avenue and we need your help to keep it litter free! As a thank you for helping keep Riverside beautiful\, anyone volunteering for the full two-hour will get free admission to our pool party the next day Sunday 7/24 12-3pm at Islander Park Pool. \n\n\n\nThank you for helping us Keep Riverside Clean and Beautiful! \n\n\n\nRally Spot \n\n\n\nWe will be meeting at VIP Nightclub and Restaurant parking lot.  \n\n\n\nWhat to bring \n\n\n\nTrash bags\, pickers and gloves will be provided. We will also have water jugs available. Please bring your own water bottles\, sunscreen and hats.
URL:https://www.riversideprideie.org/event/street-clean-up-merrill-ave/
LOCATION:VIP Nightclub & Restaurant\, 3673 Merrill Ave\, Riverside\, CA\, 92506\, United States
CATEGORIES:Pride Events
ATTACH;FMTTYPE=image/png:https://www.riversideprideie.org/wp-content/uploads/Merrill-Street.png
END:VEVENT
BEGIN:VEVENT
DTSTART;TZID=America/Los_Angeles:20220724T120000
DTEND;TZID=America/Los_Angeles:20220724T150000
DTSTAMP:20260422T054951
CREATED:20220614T000622Z
LAST-MODIFIED:20230304T202010Z
UID:10000188-1658664000-1658674800@www.riversideprideie.org
SUMMARY:Riverside Pride Pool Party
DESCRIPTION:MAKE A SPLASH – July 24 – 12 – 3 PM\n\n\n\n\nThis is an all-ages event. \n\n\n\nCome join us for our very first LGBTQ+ pool party! Fun in the sun with Riverside Pride in a safe place for all – tickets include lunch\, games\, volleyball\, swag and more.  \n\n\n\nPool is ADA accessible. Get your tickets now\, they WILL sell out and will not be available at the gate. \n\n\n\n\n\n\n\n\n\nThank you Portillo's for donating all the food for this event! \n\n\n\n\n\n\n\n\nTickets are no longer available. See you at the pool!
URL:https://www.riversideprideie.org/event/riverside-pride-pool-party/
LOCATION:Islander Park Pool\, 3794 Mt. Vernon\, Riverside\, California\, 92507\, United States
CATEGORIES:Pride Events
ATTACH;FMTTYPE=image/png:https://www.riversideprideie.org/wp-content/uploads/Pool-Party-2022.png
END:VEVENT
END:VCALENDAR