BEGIN:VCALENDAR
VERSION:2.0
PRODID:-//Riverside LGBTQ+ Pride - ECPv6.14.0//NONSGML v1.0//EN
CALSCALE:GREGORIAN
METHOD:PUBLISH
X-ORIGINAL-URL:https://www.riversideprideie.org
X-WR-CALDESC:Events for Riverside LGBTQ+ Pride
REFRESH-INTERVAL;VALUE=DURATION:PT1H
X-Robots-Tag:noindex
X-PUBLISHED-TTL:PT1H
BEGIN:VTIMEZONE
TZID:America/Los_Angeles
BEGIN:DAYLIGHT
TZOFFSETFROM:-0800
TZOFFSETTO:-0700
TZNAME:PDT
DTSTART:20220313T100000
END:DAYLIGHT
BEGIN:STANDARD
TZOFFSETFROM:-0700
TZOFFSETTO:-0800
TZNAME:PST
DTSTART:20221106T090000
END:STANDARD
END:VTIMEZONE
BEGIN:VEVENT
DTSTART;TZID=America/Los_Angeles:20220508T100000
DTEND;TZID=America/Los_Angeles:20220508T120000
DTSTAMP:20260422T132745
CREATED:20220325T070130Z
LAST-MODIFIED:20230219T234023Z
UID:10000178-1652004000-1652011200@www.riversideprideie.org
SUMMARY:Mother's Day Drag Brunch with Celebrity Mom - SOLD OUT
DESCRIPTION:Join us for a day of great food\, drag fabulousness and special guest:Real Housewife and LGBTQIA+ Mom:Braunwyn Windham-Burke!\n\n\n\nAll Ages Show\n\n\n\nTickets for this event benefit Riverside LGBTQ+ Pride\, a 501(c)(3) Charity \n\n\n\nSponsored By\n\n\n\n\n\n\n\n\nVIP Nightclub\n\n\n\nRainbow Pride Youth Alliance\n\n\n\nOntario Mills\n\n\n\nAlphabet Mafia SoCal\n\n\n\n\n                   \n\n\n\n$30 General Admission Includes\n\n\n\n\n\n\n\n\n\nBrunch BuffetKids activitiesFabulous Drag PerformancesSpecial Celebrity GuestPride GiveawaysPhoto Ops in Our Photo BoothCash barMoms from Free Mom Hugs of SoCal to celebrate with you if needed\n\n\n\n\n\nBrunch Menu\n\n\n\nEggsWaffle StationBaconSausageBreakfast potatoesToast\, bagels & pastriesBiscuit & gravyMixed fruitJuice\, coffee\, tea and soft drinksBottomless mimosas for VIP guests\n\n\n\n\n\n\n\n\n\n\n\n\n\n\n\n\n\nWe’re working with one of our favorite organizations called Free Mom Hugs\, who work to promote acceptance\, love and support for those in the LGBTQIA+ community. They will be providing “surrogate” moms for those who want to attend but for whatever reason\, don’t have a mom to celebrate with. We recognize that many in our community are not in contact with their mothers or have lost them in some way\, so we want to make sure that those who want to celebrate with us\, still have someone to spend the day with. \n\n\n\n\n\n\n\n\n\nUpgrade to VIP for an additional $15 and get\n\n\n\n\n\n\n\nBottomless Mimosas!Personal meet-and-greet and photo with Braunwyn!A free print of  your photo with our celebrity guest!\n\n\n\n\n\n\n\nAbout Braunwyn Windham-Burke\n\n\n\n\n\n\n\n\n\n\n\n\n\n\n\nBraunwyn Windham-Burke\, from the reality television show Real Housewives of Orange County\, came out as a lesbian in 2020 (the first openly gay cast member in the franchise’s history)\, has long been an ally of the LGBTQIA+ community\, and has even supported her children in exploring and finding their own identities within the community.   \n\n\n\n“Being a mom to queer kids is awesome. You get to see your kids thrive and shine when they’re surrounded by love and acceptance\,” Winham-Burke explained.  \n\n\n\n\n\n\n\n\n\nThe Fabulous Drag Performers\n\n\n\n\n\n\n\n\n\nJazmyn Simone\n\n\n\n\n\n\n\n@thapeoplesqueen \n\n\n\n\n\nSa'Hara\n\n\n\n\n\n\n\n@oohsahara \n\n\n\n\n\nRhea Della Vera\n\n\n\n\n\n\n\n@rheadellavera \n\n\n\n\n\n\n\n\n\nParties of 3 or less may be seated with new friends at a shared table. \n\n\n\n\n\n\n\n\n\n\n\n\n\n\n\n\n\nWILL TICKETS BE AVAILABLE AT THE DOOR?No\, this event will sell out. \n\n\n\nCAN I BRING MY CHILD? \n\n\n\nYes! This is a family affair.
URL:https://www.riversideprideie.org/event/mothers-day-drag-brunch-with-celebrity-guest/
LOCATION:VIP Nightclub & Restaurant\, 3673 Merrill Ave\, Riverside\, CA\, 92506\, United States
CATEGORIES:Pride Events
ATTACH;FMTTYPE=image/png:https://www.riversideprideie.org/wp-content/uploads/Mothers-Day-Promo-Drag-Group-1-1.png
ORGANIZER;CN="Riverside LGBTQ+ Pride":MAILTO:help@riversideprideie.org
END:VEVENT
END:VCALENDAR