BEGIN:VCALENDAR
VERSION:2.0
PRODID:-//Riverside LGBTQ+ Pride - ECPv6.14.0//NONSGML v1.0//EN
CALSCALE:GREGORIAN
METHOD:PUBLISH
X-WR-CALNAME:Riverside LGBTQ+ Pride
X-ORIGINAL-URL:https://www.riversideprideie.org
X-WR-CALDESC:Events for Riverside LGBTQ+ Pride
REFRESH-INTERVAL;VALUE=DURATION:PT1H
X-Robots-Tag:noindex
X-PUBLISHED-TTL:PT1H
BEGIN:VTIMEZONE
TZID:America/Los_Angeles
BEGIN:DAYLIGHT
TZOFFSETFROM:-0800
TZOFFSETTO:-0700
TZNAME:PDT
DTSTART:20220313T100000
END:DAYLIGHT
BEGIN:STANDARD
TZOFFSETFROM:-0700
TZOFFSETTO:-0800
TZNAME:PST
DTSTART:20221106T090000
END:STANDARD
END:VTIMEZONE
BEGIN:VEVENT
DTSTART;TZID=America/Los_Angeles:20220403T080000
DTEND;TZID=America/Los_Angeles:20220403T100000
DTSTAMP:20260422T150238
CREATED:20220319T192437Z
LAST-MODIFIED:20230219T234028Z
UID:10000179-1648972800-1648980000@www.riversideprideie.org
SUMMARY:Riverside Pride: Wellness - Yoga at the Park
DESCRIPTION:Looking to #stretch and improve your #mood? Join #RiversidePride at Fairmount Park on Sunday April 3rd\, at 8am. Come #Out to connect your mind\, body and soul with other yogi's. Bring your yoga mat\, we will be providing water and some healthy snacks. All levels welcomed! Look for the rainbow flag when you arrive at the park. RSVP below to secure your spot. #Wellness #ILoveRiverside \nHere is the location we will meet:
URL:https://www.riversideprideie.org/event/yoga-at-the-park/
LOCATION:Fairmount Park\, 2601 Fairmount Blvd\, Riverside\, CA\, 92501\, United States
CATEGORIES:Pride Events
ATTACH;FMTTYPE=image/png:https://www.riversideprideie.org/wp-content/uploads/Yoga-at-the-Park.png
ORGANIZER;CN="Riverside LGBTQ+ Pride":MAILTO:help@riversideprideie.org
GEO:33.99885;-117.374645
X-APPLE-STRUCTURED-LOCATION;VALUE=URI;X-ADDRESS=Fairmount Park 2601 Fairmount Blvd Riverside CA 92501 United States;X-APPLE-RADIUS=500;X-TITLE=2601 Fairmount Blvd:geo:-117.374645,33.99885
END:VEVENT
END:VCALENDAR