BEGIN:VCALENDAR
VERSION:2.0
PRODID:-//Riverside LGBTQ+ Pride - ECPv6.14.0//NONSGML v1.0//EN
CALSCALE:GREGORIAN
METHOD:PUBLISH
X-WR-CALNAME:Riverside LGBTQ+ Pride
X-ORIGINAL-URL:https://www.riversideprideie.org
X-WR-CALDESC:Events for Riverside LGBTQ+ Pride
REFRESH-INTERVAL;VALUE=DURATION:PT1H
X-Robots-Tag:noindex
X-PUBLISHED-TTL:PT1H
BEGIN:VTIMEZONE
TZID:America/Los_Angeles
BEGIN:DAYLIGHT
TZOFFSETFROM:-0800
TZOFFSETTO:-0700
TZNAME:PDT
DTSTART:20220313T100000
END:DAYLIGHT
BEGIN:STANDARD
TZOFFSETFROM:-0700
TZOFFSETTO:-0800
TZNAME:PST
DTSTART:20221106T090000
END:STANDARD
END:VTIMEZONE
BEGIN:VEVENT
DTSTART;TZID=America/Los_Angeles:20220318T190000
DTEND;TZID=America/Los_Angeles:20220318T220000
DTSTAMP:20260422T163121
CREATED:20220313T231641Z
LAST-MODIFIED:20230219T234039Z
UID:10000180-1647630000-1647640800@www.riversideprideie.org
SUMMARY:Boba Tea House Mixer
DESCRIPTION:Join us at Boba Tea House for a fun mixer! Come meet fellow members of Riverside LGBTQ+ community. \nNo purchase or tickets necessary. Boba Tea House has generously offered that portion of the night's proceeds will benefit Riverside Pride.
URL:https://www.riversideprideie.org/event/boba-tea-house-pride-mixer/
LOCATION:Boba Tea House\, 767 W Blaine St.\, Riverside\, CA\, 92507\, United States
CATEGORIES:Pride Events
ATTACH;FMTTYPE=image/png:https://www.riversideprideie.org/wp-content/uploads/Boba-tea-Mixer.png
ORGANIZER;CN="Riverside LGBTQ+ Pride":MAILTO:help@riversideprideie.org
END:VEVENT
END:VCALENDAR